BEGIN:VCALENDAR
VERSION:2.0
PRODID:-//Atlanta Astrology - ECPv6.15.16.1//NONSGML v1.0//EN
CALSCALE:GREGORIAN
METHOD:PUBLISH
X-ORIGINAL-URL:https://atlantaastrology.com
X-WR-CALDESC:Events for Atlanta Astrology
REFRESH-INTERVAL;VALUE=DURATION:PT1H
X-Robots-Tag:noindex
X-PUBLISHED-TTL:PT1H
BEGIN:VTIMEZONE
TZID:America/New_York
BEGIN:DAYLIGHT
TZOFFSETFROM:-0500
TZOFFSETTO:-0400
TZNAME:EDT
DTSTART:20240310T070000
END:DAYLIGHT
BEGIN:STANDARD
TZOFFSETFROM:-0400
TZOFFSETTO:-0500
TZNAME:EST
DTSTART:20241103T060000
END:STANDARD
BEGIN:DAYLIGHT
TZOFFSETFROM:-0500
TZOFFSETTO:-0400
TZNAME:EDT
DTSTART:20250309T070000
END:DAYLIGHT
BEGIN:STANDARD
TZOFFSETFROM:-0400
TZOFFSETTO:-0500
TZNAME:EST
DTSTART:20251102T060000
END:STANDARD
BEGIN:DAYLIGHT
TZOFFSETFROM:-0500
TZOFFSETTO:-0400
TZNAME:EDT
DTSTART:20260308T070000
END:DAYLIGHT
BEGIN:STANDARD
TZOFFSETFROM:-0400
TZOFFSETTO:-0500
TZNAME:EST
DTSTART:20261101T060000
END:STANDARD
END:VTIMEZONE
BEGIN:VEVENT
DTSTART;TZID=America/New_York:20250503T140000
DTEND;TZID=America/New_York:20250503T153000
DTSTAMP:20260424T045628
CREATED:20250416T161343Z
LAST-MODIFIED:20250416T162816Z
UID:30659-1746280800-1746286200@atlantaastrology.com
SUMMARY:Grounding & Thriving in a Chaotic World with Saivite Wilson & Michelle Gregg
DESCRIPTION:Empowering\, Grounding and Regulating with Astrology and Spiritual Practices in the Current Energetic Environment\n\nThrough the integration of astrological wisdom\, the understanding of Universal energies\, and the embodiment of spiritual practices\, this class offers tools to regulate\, ground\, and engender positivity through the body\, mind\, and spirit. It is designed to help participants act from a conscious\, more knowledgeable space that promotes greater confidence in navigating the current energetic climate. During our time together we’ll be covering the astrological energies that are impacting us now\, and providing actionable spiritual practices that you can take with you into your daily life. Our goal is to assist and support your empowerment through these changing times.\n\nTHEME: Empowering\, Grounding and Regulating with Astrology and Spiritual Practices in the Current Energetic Environment
URL:https://atlantaastrology.com/event/grounding-thriving-in-a-chaotic-world-with-saivite-wilson-michelle-gregg/
ATTACH;FMTTYPE=image/jpeg:https://atlantaastrology.com/wp-content/uploads/2025/04/Saivite-Class-Image.jpeg
END:VEVENT
BEGIN:VEVENT
DTSTART;TZID=America/New_York:20250515T193000
DTEND;TZID=America/New_York:20250515T210000
DTSTAMP:20260424T045628
CREATED:20250423T212507Z
LAST-MODIFIED:20250423T212507Z
UID:30676-1747337400-1747342800@atlantaastrology.com
SUMMARY:AI and Astrology
DESCRIPTION:AI will undoubtedly play a more prominent role as the clock ticks. That begs the question as to how accurate it can be when it comes to the world of Astrology. We invite you to participate in this exchange and share your impressions. If you’re game\, we’ll use your chart as an example and see what happens. We’ll also look at people in the news and see what AI has to say about them\, too. This should be fun to play with! \n 
URL:https://atlantaastrology.com/event/ai-and-astrology/
CATEGORIES:Monthly Meeting & Lecture
ATTACH;FMTTYPE=image/jpeg:https://atlantaastrology.com/wp-content/uploads/2025/04/sphere-grid-wave-with-binary-code-ai-artificial-intelligence-logo-hand-machine-learning-concept_127544-855.jpeg
END:VEVENT
END:VCALENDAR