BEGIN:VCALENDAR
VERSION:2.0
PRODID:-//Atlanta Astrology - ECPv6.15.16.1//NONSGML v1.0//EN
CALSCALE:GREGORIAN
METHOD:PUBLISH
X-WR-CALNAME:Atlanta Astrology
X-ORIGINAL-URL:https://atlantaastrology.com
X-WR-CALDESC:Events for Atlanta Astrology
REFRESH-INTERVAL;VALUE=DURATION:PT1H
X-Robots-Tag:noindex
X-PUBLISHED-TTL:PT1H
BEGIN:VTIMEZONE
TZID:America/New_York
BEGIN:DAYLIGHT
TZOFFSETFROM:-0500
TZOFFSETTO:-0400
TZNAME:EDT
DTSTART:20230312T070000
END:DAYLIGHT
BEGIN:STANDARD
TZOFFSETFROM:-0400
TZOFFSETTO:-0500
TZNAME:EST
DTSTART:20231105T060000
END:STANDARD
BEGIN:DAYLIGHT
TZOFFSETFROM:-0500
TZOFFSETTO:-0400
TZNAME:EDT
DTSTART:20240310T070000
END:DAYLIGHT
BEGIN:STANDARD
TZOFFSETFROM:-0400
TZOFFSETTO:-0500
TZNAME:EST
DTSTART:20241103T060000
END:STANDARD
BEGIN:DAYLIGHT
TZOFFSETFROM:-0500
TZOFFSETTO:-0400
TZNAME:EDT
DTSTART:20250309T070000
END:DAYLIGHT
BEGIN:STANDARD
TZOFFSETFROM:-0400
TZOFFSETTO:-0500
TZNAME:EST
DTSTART:20251102T060000
END:STANDARD
END:VTIMEZONE
BEGIN:VEVENT
DTSTART;TZID=America/New_York:20241219T193000
DTEND;TZID=America/New_York:20241219T210000
DTSTAMP:20260424T122328
CREATED:20241207T193619Z
LAST-MODIFIED:20241207T193619Z
UID:30371-1734636600-1734642000@atlantaastrology.com
SUMMARY:Winter Solstice 2024 Celebration with Pot Luck and Socializing
DESCRIPTION:Come celebrate the Winter Solstice with us  as we gather one last time in 2024! It’s pot luck\, so bring what warms your heart and soul. Mingle with like-minded people who love exploring the endless world of Astrology. While you’re here\, feel free to peruse our vast library. \nMembers are welcome to bring guests. We look forward to seeing you there!
URL:https://atlantaastrology.com/event/winter-solstice-2024-celebration-with-pot-luck-and-socializing/
LOCATION:The Rene Goodale Learning Center\, 2054 Harobi Drive\, Tucker\, GA\, 30084\, United States
CATEGORIES:Parties & Gatherings
ATTACH;FMTTYPE=image/jpeg:https://atlantaastrology.com/wp-content/uploads/2024/12/solstice-clipart-20.jpg
END:VEVENT
END:VCALENDAR