BEGIN:VCALENDAR
VERSION:2.0
PRODID:-//Atlanta Astrology - ECPv6.15.16.1//NONSGML v1.0//EN
CALSCALE:GREGORIAN
METHOD:PUBLISH
X-WR-CALNAME:Atlanta Astrology
X-ORIGINAL-URL:https://atlantaastrology.com
X-WR-CALDESC:Events for Atlanta Astrology
REFRESH-INTERVAL;VALUE=DURATION:PT1H
X-Robots-Tag:noindex
X-PUBLISHED-TTL:PT1H
BEGIN:VTIMEZONE
TZID:America/New_York
BEGIN:DAYLIGHT
TZOFFSETFROM:-0500
TZOFFSETTO:-0400
TZNAME:EDT
DTSTART:20230312T070000
END:DAYLIGHT
BEGIN:STANDARD
TZOFFSETFROM:-0400
TZOFFSETTO:-0500
TZNAME:EST
DTSTART:20231105T060000
END:STANDARD
BEGIN:DAYLIGHT
TZOFFSETFROM:-0500
TZOFFSETTO:-0400
TZNAME:EDT
DTSTART:20240310T070000
END:DAYLIGHT
BEGIN:STANDARD
TZOFFSETFROM:-0400
TZOFFSETTO:-0500
TZNAME:EST
DTSTART:20241103T060000
END:STANDARD
BEGIN:DAYLIGHT
TZOFFSETFROM:-0500
TZOFFSETTO:-0400
TZNAME:EDT
DTSTART:20250309T070000
END:DAYLIGHT
BEGIN:STANDARD
TZOFFSETFROM:-0400
TZOFFSETTO:-0500
TZNAME:EST
DTSTART:20251102T060000
END:STANDARD
END:VTIMEZONE
BEGIN:VEVENT
DTSTART;TZID=America/New_York:20241121T193000
DTEND;TZID=America/New_York:20241121T210000
DTSTAMP:20260424T142222
CREATED:20241101T214703Z
LAST-MODIFIED:20241101T214703Z
UID:30241-1732217400-1732222800@atlantaastrology.com
SUMMARY:Juno: Asteroid of Love or Death? with Justin Showalter
DESCRIPTION:DESCRIPTION: \nIs the asteroid Juno simply about marriage\, or does it have broader meanings? This will show that Juno is a Saturnian object with the full associations of Saturn. Arrest charts\, death charts\, and other Saturnian charts will be shown. How to work with asteroids will be covered as well. \nSPEAKER BIO: \n Justin Showalter is an astrologer practicing the astrology of L. Edward Johndro. He runs AstrologyOfTheSaints\, applying astrology to the lives of the Saints\, Catholic miracles\, and Catholic history.  astrologyofthesaints.substack.com
URL:https://atlantaastrology.com/event/juno/
LOCATION:The Rene Goodale Learning Center\, 2054 Harobi Drive\, Tucker\, GA\, 30084\, United States
ATTACH;FMTTYPE=image/png:https://atlantaastrology.com/wp-content/uploads/2024/11/Juno-Asteroid-of-Love-or-Death.png
END:VEVENT
END:VCALENDAR