BEGIN:VCALENDAR
VERSION:2.0
PRODID:-//Atlanta Astrology - ECPv6.15.16.1//NONSGML v1.0//EN
CALSCALE:GREGORIAN
METHOD:PUBLISH
X-WR-CALNAME:Atlanta Astrology
X-ORIGINAL-URL:https://atlantaastrology.com
X-WR-CALDESC:Events for Atlanta Astrology
REFRESH-INTERVAL;VALUE=DURATION:PT1H
X-Robots-Tag:noindex
X-PUBLISHED-TTL:PT1H
BEGIN:VTIMEZONE
TZID:America/New_York
BEGIN:DAYLIGHT
TZOFFSETFROM:-0500
TZOFFSETTO:-0400
TZNAME:EDT
DTSTART:20230312T070000
END:DAYLIGHT
BEGIN:STANDARD
TZOFFSETFROM:-0400
TZOFFSETTO:-0500
TZNAME:EST
DTSTART:20231105T060000
END:STANDARD
BEGIN:DAYLIGHT
TZOFFSETFROM:-0500
TZOFFSETTO:-0400
TZNAME:EDT
DTSTART:20240310T070000
END:DAYLIGHT
BEGIN:STANDARD
TZOFFSETFROM:-0400
TZOFFSETTO:-0500
TZNAME:EST
DTSTART:20241103T060000
END:STANDARD
BEGIN:DAYLIGHT
TZOFFSETFROM:-0500
TZOFFSETTO:-0400
TZNAME:EDT
DTSTART:20250309T070000
END:DAYLIGHT
BEGIN:STANDARD
TZOFFSETFROM:-0400
TZOFFSETTO:-0500
TZNAME:EST
DTSTART:20251102T060000
END:STANDARD
END:VTIMEZONE
BEGIN:VEVENT
DTSTART;TZID=America/New_York:20240516T193000
DTEND;TZID=America/New_York:20240516T210000
DTSTAMP:20260424T235322
CREATED:20240309T220643Z
LAST-MODIFIED:20240425T233543Z
UID:28593-1715887800-1715893200@atlantaastrology.com
SUMMARY:The Basics of Finding MidPoints and Solar Arcs in the 90° Dial with Kathy Allan
DESCRIPTION:Topic\nThe 90° dial is uniquely suited to finding midpoints and 8th harmonic aspects that are useful for chart delineation. The Solar Arcs move natal points at the rate of the natal Sun\, which means the patterns in the radix remain the same as they advance through time. For each natal midpoint\, there are four solar arcs that repeat over a lifetime. We’ll see how to find the recurring themes and how to time them using the dial.\n\nAbout Presenter\nKathy Allan is a professional astrologer certified by the AFA in 2010. She has taught astrology classes at all levels\, has lectured nationally\, and has written for The Mountain Astrologer. She is the author of When Worlds Collide: Another Look at the Lunar Nodes and Working With Midpoints.  She has a PhD in Molecular Toxicology and did postdoctoral research in Infectious Immunology. Originally from Toronto\, this long-time resident of Kenya and South Florida\, now lives in New Mexico.
URL:https://atlantaastrology.com/event/the-basics-of-finding-midpoints-and-solar-arcs-in-the-90-dial-with-kathy-allan/
LOCATION:The Rene Goodale Learning Center\, 2054 Harobi Drive\, Tucker\, GA\, 30084\, United States
ATTACH;FMTTYPE=image/jpeg:https://atlantaastrology.com/wp-content/uploads/2024/03/KathyAllanpic.jpg
END:VEVENT
BEGIN:VEVENT
DTSTART;TZID=America/New_York:20240525T222530
DTEND;TZID=America/New_York:20240525T222530
DTSTAMP:20260424T235322
CREATED:20240308T151245Z
LAST-MODIFIED:20240525T222529Z
UID:28548-1716675930-1716675930@atlantaastrology.com
SUMMARY:Astrology Math Class
DESCRIPTION:Astrology Math Class \nThis class covers all the steps a student will need to learn how to cast an astrological chart and  progress it. The student will learn how to calculate planetary positions and house cusps to the minute\, how to find the adjusted calculation date (ACD)\, and the requirements for passing the professional exam offered by the American Federation of Astrologers. Two different methods of calculating planetary positions will be taught\, giving the student a means of cross-checking their results. \nThis is an eight-week\, 2-hour hybrid class\, meeting weekly starting April 27 at 2:00 pm. The fee is $425. \nIn-person attendees will meet at the Rene Goodale Learning Center at 2054 Harobi Drive\, Atlanta GA 30084-5103. Remote attendees will be provided a Zoom link upon registration payment. \nAbout the teacher: \nKathryn Silverton holds a master’s degree in psychology and was certified as a professional astrologer through the American Federation of Astrologers in 1983. In addition to her consulting practice\, she teaches beginning to advanced levels of astrology. She serves on the board of the AFA and as President of the Metropolitan Atlanta Astrological Society. Some of her specialties include medical astrology\, with an emphasis on the timing of medical procedures and the timing of real estate transactions. \n  \nSign up to reserve your spot
URL:https://atlantaastrology.com/event/astrology-math-class/
CATEGORIES:Classes
ATTACH;FMTTYPE=image/jpeg:https://atlantaastrology.com/wp-content/uploads/2024/03/cal-2.jpg
END:VEVENT
END:VCALENDAR