BEGIN:VCALENDAR
VERSION:2.0
PRODID:-//Atlanta Astrology - ECPv6.15.16.1//NONSGML v1.0//EN
CALSCALE:GREGORIAN
METHOD:PUBLISH
X-WR-CALNAME:Atlanta Astrology
X-ORIGINAL-URL:https://atlantaastrology.com
X-WR-CALDESC:Events for Atlanta Astrology
REFRESH-INTERVAL;VALUE=DURATION:PT1H
X-Robots-Tag:noindex
X-PUBLISHED-TTL:PT1H
BEGIN:VTIMEZONE
TZID:America/New_York
BEGIN:DAYLIGHT
TZOFFSETFROM:-0500
TZOFFSETTO:-0400
TZNAME:EDT
DTSTART:20200308T070000
END:DAYLIGHT
BEGIN:STANDARD
TZOFFSETFROM:-0400
TZOFFSETTO:-0500
TZNAME:EST
DTSTART:20201101T060000
END:STANDARD
BEGIN:DAYLIGHT
TZOFFSETFROM:-0500
TZOFFSETTO:-0400
TZNAME:EDT
DTSTART:20210314T070000
END:DAYLIGHT
BEGIN:STANDARD
TZOFFSETFROM:-0400
TZOFFSETTO:-0500
TZNAME:EST
DTSTART:20211107T060000
END:STANDARD
BEGIN:DAYLIGHT
TZOFFSETFROM:-0500
TZOFFSETTO:-0400
TZNAME:EDT
DTSTART:20220313T070000
END:DAYLIGHT
BEGIN:STANDARD
TZOFFSETFROM:-0400
TZOFFSETTO:-0500
TZNAME:EST
DTSTART:20221106T060000
END:STANDARD
BEGIN:DAYLIGHT
TZOFFSETFROM:-0500
TZOFFSETTO:-0400
TZNAME:EDT
DTSTART:20230312T070000
END:DAYLIGHT
BEGIN:STANDARD
TZOFFSETFROM:-0400
TZOFFSETTO:-0500
TZNAME:EST
DTSTART:20231105T060000
END:STANDARD
END:VTIMEZONE
BEGIN:VEVENT
DTSTART;TZID=America/New_York:20220721T153000
DTEND;TZID=America/New_York:20220721T170000
DTSTAMP:20260424T111523
CREATED:20220406T030705Z
LAST-MODIFIED:20220512T192228Z
UID:25407-1658417400-1658422800@atlantaastrology.com
SUMMARY:Keys to a Kingdom: Dispositorship Demystified with Wade Caves
DESCRIPTION:Keys to a kingdom: dispositorship demystified.’ Despite its ubiquitous nature\, leveraging dispositorship (ruling the degree occupied by a planet or point) as a technique has a steep adoption curve\, perhaps because so little has been dedicated to its study in the West. Contained within the idea of dispositorship we find acknowledgement of humanity’s wrestling with profound spiritual principles: the contrast between restoration and deprivation\, theories on the soul’s interaction with the material\, how energy and ideas are transferred from one being to another\, etc. Let’s explore \nWade Caves is an astrological consultant and educator specializing in horary\, electional and classical astrological technique. He was certified with honors from the Mayo School of Astrology and has expert knowledge of traditional and modern psychological methods of chart delineation. Wade’s passion is in understanding the origins of astrological symbolism and finding reliable ways to put this information to practical use in consultation. He is the editor and annotator of the 300th anniversary edition of William Lilly’s History of His Life and Times (Rubedo Press.
URL:https://atlantaastrology.com/event/keys-to-a-kingdom-dispositorship-demystified-with-wade-caves/
LOCATION:The Rene Goodale Learning Center\, 2054 Harobi Drive\, Tucker\, GA\, 30084\, United States
CATEGORIES:Monthly Meeting & Lecture
END:VEVENT
BEGIN:VEVENT
DTSTART;TZID=America/New_York:20220616T153000
DTEND;TZID=America/New_York:20220616T170000
DTSTAMP:20260424T111523
CREATED:20220406T030420Z
LAST-MODIFIED:20220521T214833Z
UID:25404-1655393400-1655398800@atlantaastrology.com
SUMMARY:The Finger of God – A Divine Detour with Janet Booth
DESCRIPTION:Sometimes planets form a triangle pattern called the Finger of God (also known as a Yod)\, showing areas in our life where we detour off the path we think we’re consciously choosing. We’re not sure if God is pointing the way or showing us a different finger! Janet explains the main component of such triangles\, an aspect of mismatched energies called the quincunx or inconjunct. Using famous examples as well as charts submitted by participants\, we’ll explore ways to get the best out of the combinations of signs. (Note: not all charts have this pattern.) Janet will also discuss some of the upcoming transiting Fingers of God. \nJanet Booth began her astrological studies in 1976\, building on a BA in Behavioral Studies. Consulting since 1979\, she serves a international clientele of individuals\, couples and businesses. Janet has taught astrology at all levels (including UAC 2002 and 2008). She’s been published in The Mountain Astrologer. Since 2000\, she’s written her Janet’s Plan-its forecasts and hosted LOOKING UP on award-winning West Hartford (CT) Community Television. An instrumental leader of the Astrological Society of Connecticut\, she was their president at the millennium.
URL:https://atlantaastrology.com/event/the-finger-of-god-a-divine-detour-with-janet-booth/
LOCATION:The Rene Goodale Learning Center\, 2054 Harobi Drive\, Tucker\, GA\, 30084\, United States
END:VEVENT
BEGIN:VEVENT
DTSTART;TZID=America/New_York:20220519T153000
DTEND;TZID=America/New_York:20220519T170000
DTSTAMP:20260424T111523
CREATED:20220307T231720Z
LAST-MODIFIED:20220512T192040Z
UID:25218-1652974200-1652979600@atlantaastrology.com
SUMMARY:Fixed Stars and Natal Planets with Elizabeth Hazel
DESCRIPTION:This is an excellent primer class for capable astrologers who are interested in integrating fixed stars into their practice and are ready to learn basic methods for delineating planet-star combinations. Sample charts are used to demonstrate how to interpret the over-arching life themes that fixed stars give to natal planets\, and how different planets channel star energies. \nElizabeth Hazel is an astrologer\, tarotist\, speaker and author. She is a long-time president of SMARRT/Ann Arbor chapter of NCGR. Her published works include Little Book of Fixed Stars\, Antiscia: Secrets in the Mirror\, Twelve-House Tarot Spreads\, Tarot Decoded\, and The Whispering Tarot deck and book. Elizabeth has given presentations at numerous events including UAC 2018\, SOTA\, GLAC\, and for groups around the country. Contact 419-242-1696 or ehazel@bex.net
URL:https://atlantaastrology.com/event/fixed-stars-and-natal-planets-with-elizabeth-hazel/
LOCATION:The Rene Goodale Learning Center\, 2054 Harobi Drive\, Tucker\, GA\, 30084\, United States
ORGANIZER;CN="Elizabeth Hazel":MAILTO:ehazel@bex.net
END:VEVENT
BEGIN:VEVENT
DTSTART;TZID=America/New_York:20220421T153000
DTEND;TZID=America/New_York:20220421T170000
DTSTAMP:20260424T111523
CREATED:20220307T231455Z
LAST-MODIFIED:20220406T201033Z
UID:25215-1650555000-1650560400@atlantaastrology.com
SUMMARY:A Legacy of Marc Edmund Jones: Planetary Patterns (aka Temperament Types) with David Perloff
DESCRIPTION:During his lifetime\, Marc Edmund Jones was one of the most influential astrologers of the 20th century. Today\, he is perhaps best known for the Sabian Symbols. One of the often-overlooked techniques Dr. Jones developed is Planetary Patterns (aka ‘The Temperament Type’) – determined by how the planets are arranged around the wheel. We will look at the seven planetary patterns – Bundle\, Bowl\, Bucket\, Locomotive\, Splash\, See-Saw and Splay – and see how they can be a powerful tool in chart interpretation. Each of the patterns will be illustrated by natal charts of well-known people. \nBio – David Perloff is a professional astrologer\, with clients around the world. He has given astrology talks throughout the United States and internationally\, most recently (in-person\, pre-Covid) in Portugal\, Italy\, and Canada. David’s writing has appeared in The Mountain Astrologer\, Dell Horoscope Magazine\, Geocosmic Journal\, and Jornal de Associação Portuguesa de Astrologia.
URL:https://atlantaastrology.com/event/a-legacy-of-marc-edmund-jones-planetary-patterns-aka-temperament-types-with-david-perloff/
LOCATION:Online Only
END:VEVENT
BEGIN:VEVENT
DTSTART;TZID=America/New_York:20220319T060000
DTEND;TZID=America/New_York:20220423T080000
DTSTAMP:20260424T111523
CREATED:20220307T231243Z
LAST-MODIFIED:20220406T032438Z
UID:25211-1647669600-1650700800@atlantaastrology.com
SUMMARY:Medical Astrology Class
DESCRIPTION:This six-week class is designed for those who have a working knowledge of the basic components of the astrological chart. The material presented will demonstrate the function of the signs\, planets\, houses\, and aspects from a health perspective. Once this foundation is built\, the class will address how to move the chart forward from a health perspective as well as demonstrate examples of timing medical procedures. We will also cover such issues as indicators of pregnancy\, fertility and death.\n\nDates: Saturdays\, March 19\, 2022 through April 23\, 2022\nTime: 10 am-12 pm EDT\nPlace: Zoom link will be provided\nFee: $350 for MAAS Members\, $375 for Non-Members\nDeadline to register: Saturday\, March 19\, 2022\nClasses will be recorded\, and students will have access to the digital recordings.\n\nTo register\, click on the link below.\nFor questions\, email Kathryn at kls@planetaryperceptions.com\n\nAbout the instructor:\nKathryn holds a master’s degree in psychology\, became professionally certified by the American Federation of Astrologer in November of 1983 and sits on the board of the AFA. She consults with clients all over the globe and teaches intermediate to advanced levels of astrology\, including the mathematics of casting and progressing charts. She has served on the board/steering committee for MAAS for over a dozen years\, has lectured for various organizations and has given presentations at UAC and AFA conferences.
URL:https://atlantaastrology.com/event/medical-astrology-class-2/
LOCATION:Online Only
ATTACH;FMTTYPE=image/jpeg:https://atlantaastrology.com/wp-content/uploads/2021/11/event_medical-astrology-class.jpg
END:VEVENT
BEGIN:VEVENT
DTSTART;TZID=America/New_York:20220317T153000
DTEND;TZID=America/New_York:20220317T170000
DTSTAMP:20260424T111523
CREATED:20220305T221146Z
LAST-MODIFIED:20220307T043229Z
UID:25019-1647531000-1647536400@atlantaastrology.com
SUMMARY:Astro Fun and Games with Julie Remington
DESCRIPTION:Get ready to stretch your Astrological muscles for another round of Fun + Games at MAAS. This 90-minute event will be highly interactive\, so come ready to “unmute” + play! We’ll play games like Mystery Charts\, Trivia\, and Pictionary where your collaborative knowledge and application of astrology will be the key to solving each challenging puzzle. Save the date and see you there!
URL:https://atlantaastrology.com/event/astro-fun-and-games-with-julie-remington/
LOCATION:Online Only
END:VEVENT
BEGIN:VEVENT
DTSTART;TZID=America/New_York:20220108T040000
DTEND;TZID=America/New_York:20220212T040000
DTSTAMP:20260424T111523
CREATED:20211123T005336Z
LAST-MODIFIED:20211208T004912Z
UID:24495-1641614400-1644638400@atlantaastrology.com
SUMMARY:Medical Astrology Class
DESCRIPTION:Medical Astrology Class for MAAS\nby Kathryn L Silverton \nThis six-week class is designed for those who have a working knowledge of the basic components of the astrological chart. The material presented will demonstrate the function of the signs\, planets\, houses\, and aspects from a health perspective. Once this foundation is built\, the class will address how to move the chart forward from a health perspective as well as demonstrate examples of timing medical procedures. \nDates: Saturdays\, January 8\, 2022 through February 12\, 2022\nTime: 9-11 am EST\nPlace: Zoom link will be provided\nFee: $350 for MAAS Members\, $375 for Non-Members\nDeadline to register: Saturday\, January 1\, 2022\nClasses will be recorded\, and students will have access to the digital recordings. \nAbout the instructor:\nKathryn holds a master’s degree in psychology\, became professionally certified by the American Federation of Astrologer in November of 1983 and sits on the board of the AFA. She consults with clients all over the globe and teaches intermediate to advanced levels of astrology\, including the mathematics of casting and progressing charts. She has served on the board/steering committee for MAAS for over a dozen years\, has lectured for various organizations and has given presentations at UAC and AFA conferences.
URL:https://atlantaastrology.com/event/medical-astrology-class/
LOCATION:GA
ATTACH;FMTTYPE=image/jpeg:https://atlantaastrology.com/wp-content/uploads/2021/11/event_medical-astrology-class.jpg
END:VEVENT
BEGIN:VEVENT
DTSTART;TZID=America/New_York:20211216T143000
DTEND;TZID=America/New_York:20211216T160000
DTSTAMP:20260424T111523
CREATED:20211208T000131Z
LAST-MODIFIED:20211208T003339Z
UID:24645-1639665000-1639670400@atlantaastrology.com
SUMMARY:Annual Christmas Party
DESCRIPTION:Come celebrate the holidays with us at the MAAS Pyramid! Yes\, we’re opening the building back up and are reviving our annual ritual of a Pot Luck Party. Bring yourself\, friends\, family members along with a dish you’d like to share. It will be great to gather together again as a group! \nWe look forward to seeing you and wish you all a very Merry Christmas and a Happy and Healthy New Year!
URL:https://atlantaastrology.com/event/annual-christmas-party/
LOCATION:The Rene Goodale Learning Center\, 2054 Harobi Drive\, Tucker\, GA\, 30084\, United States
CATEGORIES:Monthly Meeting & Lecture
ATTACH;FMTTYPE=image/jpeg:https://atlantaastrology.com/wp-content/uploads/2021/12/event_christmas-party-1.jpg
END:VEVENT
END:VCALENDAR