BEGIN:VCALENDAR
VERSION:2.0
PRODID:-//Atlanta Astrology - ECPv6.15.16.1//NONSGML v1.0//EN
CALSCALE:GREGORIAN
METHOD:PUBLISH
X-ORIGINAL-URL:https://atlantaastrology.com
X-WR-CALDESC:Events for Atlanta Astrology
REFRESH-INTERVAL;VALUE=DURATION:PT1H
X-Robots-Tag:noindex
X-PUBLISHED-TTL:PT1H
BEGIN:VTIMEZONE
TZID:America/New_York
BEGIN:DAYLIGHT
TZOFFSETFROM:-0500
TZOFFSETTO:-0400
TZNAME:EDT
DTSTART:20250309T070000
END:DAYLIGHT
BEGIN:STANDARD
TZOFFSETFROM:-0400
TZOFFSETTO:-0500
TZNAME:EST
DTSTART:20251102T060000
END:STANDARD
BEGIN:DAYLIGHT
TZOFFSETFROM:-0500
TZOFFSETTO:-0400
TZNAME:EDT
DTSTART:20260308T070000
END:DAYLIGHT
BEGIN:STANDARD
TZOFFSETFROM:-0400
TZOFFSETTO:-0500
TZNAME:EST
DTSTART:20261101T060000
END:STANDARD
BEGIN:DAYLIGHT
TZOFFSETFROM:-0500
TZOFFSETTO:-0400
TZNAME:EDT
DTSTART:20270314T070000
END:DAYLIGHT
BEGIN:STANDARD
TZOFFSETFROM:-0400
TZOFFSETTO:-0500
TZNAME:EST
DTSTART:20271107T060000
END:STANDARD
END:VTIMEZONE
BEGIN:VEVENT
DTSTART;TZID=America/New_York:20260521T193000
DTEND;TZID=America/New_York:20260521T210000
DTSTAMP:20260423T164415
CREATED:20260125T154028Z
LAST-MODIFIED:20260421T000910Z
UID:31154-1779391800-1779397200@atlantaastrology.com
SUMMARY:May 2026 Meeting Dale O'Brian
DESCRIPTION:Dale O’Brian \nWhen Evil Despots Seize Power…” : RE-MEMBERING CHIRON\nPractical astrology: timeless insights for Saving Soul     $18. Members Free (Year membership $50) \nChiron enters Taurus June 19th 2026 until July 2033 except for the last hurrah in Aries from September 2026 until April 2027. Come find out how Chiron in Taurus and the finishing months in Aries will evolve. \nThe late depth psychologist James Hillman said that when Spirit incarnates into\nMatter\, there be Soul.” Mythological astrological Chiron is the key to understanding\nissues related to Soul. Soul is what makes us and other sentient beings who we are.\nAnimals are “animated” (“in-souled”). Individual humans can keep\, lose or retrieve Soul.\n“Some humans ain’t human” as John Prine sang\, while other humans are blessedly\nSoulful.\nThis sharing will look at contemporary and upcoming planetary placements and\naspects in relation to transiting Chiron. Chiron is now “in the dark” before Chiron’s\nReturn (if any of us make it there in time with bodies and Souls intact). Chiron-related\nstories show us how “against all odds” certain individuals attained the good\, the wise\, the\nsustainable. If they could\, we can! \nDALE O’BRIEN\, 75\, former MAAS member\, began his study of astrology at age 18 and\nbecame a full time astrologer and Jim Lewis-certified Astro*Carto*Grapher in 1991. He\nhas shared diverse astrology in a variety of ways\, including (but not limited to) in-person\nand telephone consultations\, talks and classes for local\, national and international\nastrology organizations\, in print (such as in The Mountain Astrologer)\, one-to-one\ntutoring\, via the radio\, internet interviews\, “online” via his website and Substack\, etc.\nDale was one of the original “brainstormers” of Chiron in the 1980s and presented an\neight-week “Introduction to Chiron” course for MAAS in the 1990s. He currently lives\,\nlike mythological Chiron\, in Nature in Oregon. When actually indoors\, he welcomes\nconversation and inquiries via phone (not text) and/or email or postal mail. \nFree for members. Yearly membership is $50
URL:https://atlantaastrology.com/event/may-2026-meeting-dale-obrian/
CATEGORIES:Monthly Meeting & Lecture
ATTACH;FMTTYPE=image/jpeg:https://atlantaastrology.com/wp-content/uploads/2026/01/Dale-OBrian-pic.jpg
END:VEVENT
BEGIN:VEVENT
DTSTART;TZID=America/New_York:20260618T190000
DTEND;TZID=America/New_York:20260618T210000
DTSTAMP:20260423T164415
CREATED:20260125T154629Z
LAST-MODIFIED:20260320T021539Z
UID:31162-1781809200-1781816400@atlantaastrology.com
SUMMARY:June Solstice Party
DESCRIPTION:Celebrate the June Solstice with the Atlanta Astrology Group at our joyful potluck gathering—a time to reconnect with familiar faces and welcome new ones into the circle. This is a beautiful chance to share food\, stories\, and star lore with fellow astrology aficionados who truly get it. Come as you are\, bring a dish if you can\, and open the door to conversations that often turn into lifelong friendships under the sky we all love.
URL:https://atlantaastrology.com/event/june-solstice-party/
CATEGORIES:Monthly Meeting & Lecture
ATTACH;FMTTYPE=image/jpeg:https://atlantaastrology.com/wp-content/uploads/2026/01/June2026Solstice-1.jpg
END:VEVENT
BEGIN:VEVENT
DTSTART;TZID=America/New_York:20260716T193000
DTEND;TZID=America/New_York:20260716T210000
DTSTAMP:20260423T164415
CREATED:20260125T154720Z
LAST-MODIFIED:20260320T021611Z
UID:31165-1784230200-1784235600@atlantaastrology.com
SUMMARY:July Meeting Bill Meridian on Financial Astrology
DESCRIPTION:Bill Meridian is a leading expert on financial astrologer. Come hear him speak on a variety of astrological influences and predictive techniques for finances and more. \nMore information to be announced\, \nBill Meridian holds BS &amp; MBA degrees from NYU and has worked on the stock market since\n1966. He began to study astrology in 1972. He has twice been ranked market timer of the year by\nTimer Digest and was ranked number 3 over 19 years versus 160 services. Bill was advisor to\nlegendary Wall Street trader Frankie Joe for 12 years. He trained to be a core energetic therapist\nwith Dr. John Pierrakos in NYC for 9 years. He studied Zen at Wellspring Monastery. His\ninterpretive work is a combination of his training in core energetics and Zen practice. His 4\nbooks are Planetary Stock Trading 4\, Planetary Economic Forecasting\, Predictive Power of\nEclipse Paths\, and Mastering Geopolitical Prediction. He currently runs an investment business\nfrom his homes in Vienna and the USA. Bill is a member of the board of the Foundation for the\nStudy of Cycles. Website: billmeridian.com and billmeridianastrology.com. \nSingle event is $18 or purchase a years membership for $50 and attend meetings for Free \nJoin here https://atlantaastrology.com/product/annual-membership/
URL:https://atlantaastrology.com/event/july-meeting-bill-meridian-on-financial-astrology/
CATEGORIES:Monthly Meeting & Lecture
ATTACH;FMTTYPE=image/jpeg:https://atlantaastrology.com/wp-content/uploads/2026/01/Bill-Meridian.jpg
END:VEVENT
BEGIN:VEVENT
DTSTART;TZID=America/New_York:20260820T193000
DTEND;TZID=America/New_York:20260820T210000
DTSTAMP:20260423T164415
CREATED:20260125T154742Z
LAST-MODIFIED:20260320T021637Z
UID:31173-1787254200-1787259600@atlantaastrology.com
SUMMARY:August Meeting with Linda Berry
DESCRIPTION:Come learn about Vibrational astrology that proves astrology is predictive with Linda Berry\,  Linda is the developer of the astrology add on software program Frequency Finder that quickly recognizes your highest vibration. She is the founder of The School of The Astrology of Vibrational Energetics (STAVE) Vibrational Astrology Course 101\, 102 and 103:  and Understanding Vibrational (Harmonic) Charts \nby Linda Berry\, PAC\, MSSW \nMore information to follow \nSingle event is $18 or purchase a years membership for $50 and attend meetings for Free \nJoin here https://atlantaastrology.com/product/annual-membership/
URL:https://atlantaastrology.com/event/august-meeting-with-linda-berry/
CATEGORIES:Monthly Meeting & Lecture
ATTACH;FMTTYPE=image/jpeg:https://atlantaastrology.com/wp-content/uploads/2026/01/Linda-Berry.jpg
END:VEVENT
BEGIN:VEVENT
DTSTART;TZID=America/New_York:20260917T193000
DTEND;TZID=America/New_York:20260917T210000
DTSTAMP:20260423T164415
CREATED:20260125T154803Z
LAST-MODIFIED:20260320T021703Z
UID:31179-1789673400-1789678800@atlantaastrology.com
SUMMARY:September Meeting with Louise Edington
DESCRIPTION:Come join us for an exciting lecture from Louise Edington speaking on Ceres and the importance of feminine archetypes just in time for the Venus retrograde cycle. We may even get a glimpse into her insight on the centaur Chariklo. She offers a 7 week Venus Retrograde Heroine’s Journey class that will begin in the last week of September. So this preview of the feminine beings is just in time. \nLouise has recently published her studies on Ceres which is available on Amazon. \nSingle event is $18 or purchase a years membership for $50 and attend meetings for Free \nJoin here https://atlantaastrology.com/product/annual-membership/
URL:https://atlantaastrology.com/event/september-meeting-with-louise-edington/
CATEGORIES:Monthly Meeting & Lecture
ATTACH;FMTTYPE=image/jpeg:https://atlantaastrology.com/wp-content/uploads/2026/01/Lousie-Edington.jpg
END:VEVENT
BEGIN:VEVENT
DTSTART;TZID=America/New_York:20261015T193000
DTEND;TZID=America/New_York:20261015T210000
DTSTAMP:20260423T164415
CREATED:20260126T002247Z
LAST-MODIFIED:20260320T021735Z
UID:31199-1792092600-1792098000@atlantaastrology.com
SUMMARY:October Meeting Alan Clay Pluto's Brothers
DESCRIPTION:  \n \nWe are excited to announce the return of Alan Clay\, the founder and teacher of Dwarf Planet University. On this auspicious day of Pluto moving direct we will discover the meanings of Pluto’s brothers; Ixion and Orcus. Come hear how we can discover the deeper meaning of Orcus a \nnd Ixion. \n\nNew Stars for a New Era\nfocusing on \nThe Karmic Consciousness of Orcus\n \nAnd the Seeker Consciousness of Ixion\n\nMany astrologers believe that new planets are discovered when we are ready to incorporate the new consciousness represented by that planet into our existing consciousness. With the discovery of 10 new planets this century\, we’re entering a period of rapid consciousness development\, and this is enabling a whole new understanding of who and where we are.\n\nThis talk is based on Alan’s book\, New Stars for a New Era: A Consciousness Workbook for our 10 New Planets. It will give an overview of the aspects of consciousness represented by each of our ten new planets and then go into more detail on Ixion\, Pluto’s new lawless brother\, who enables us to push boundaries\, follow our bliss\, and be authentic in our spirituality\, and on Orcus\, Pluto’s new straight-talking brother\, who teaches us to align with a creed\, to develop karmic integrity\, and at the top level to transmute shadow into light. We will look at exercises to practically apply the energy\, and at house interpretations with examples of famous people\, to bring them to life.\n\nTo make this information practical\, at the end of the talk we will look at Ixion and Orcus’ placement in a few charts of participants. If you would like your chart included\, send your birth date\, place\, & time in advance to alan@artmedia.com.au\n\nThe talk has grown out of research at the Dwarf Planet University where we see\, by simply making these new aspects conscious\, students become empowered and their lives are transformed. We need to engage with these new consciousness energies to take them out of the unconscious area of action. To enable this\, both the talk and the book include consciousness exercises for each planet\, so we can on-board their energy in our lives. As we do\, we will become empowered\, and our lives will be transformed.\n\nNew Stars for a New Era: A Consciousness Workbook for our 10 New Planets\n“Alan Clay has written a comprehensive book on the newly discovered dwarf planets\, exploring everything from their mythology to practical application. More than just reading about these celestial bodies\, Alan shows us how to work with their energies and incorporate them into our lives. Best of all\, the book is accessible to both seasoned astrologers and novices eager to gain an understanding of the emergence of new consciousnesses in our world. A strong recommendation for this groundbreaking book.”   Armand Diaz\, from an upcoming review in the NCGR Memberletter\n__\n\n\nAlan Clay is a New Zealand writer & astrologer. He is the NCGR International Delegate for New Zealand and one of the most popular speakers in the International Talks program. Reviewers are calling his book\, New Stars for a New Era: A Consciousness Workbook for our 10 New Planets\, “groundbreaking” & “highly recommended”. In 2020 he founded the Dwarf Planet University\, where he teaches online classes helping students understand these new planets in their personal charts.  www.dwarfplanet.university
URL:https://atlantaastrology.com/event/october-meeting-alan-clay-plutos-brothers/
CATEGORIES:Monthly Meeting & Lecture
ATTACH;FMTTYPE=image/jpeg:https://atlantaastrology.com/wp-content/uploads/2026/01/Alan-Clay-photo.jpg
END:VEVENT
BEGIN:VEVENT
DTSTART;TZID=America/New_York:20261119T193000
DTEND;TZID=America/New_York:20261119T210000
DTSTAMP:20260423T164415
CREATED:20260125T154840Z
LAST-MODIFIED:20260320T021804Z
UID:31183-1795116600-1795122000@atlantaastrology.com
SUMMARY:November Meeting with Elena Lumen
DESCRIPTION:We are excited to announce that Elena Lumen\,  Phd will be sharing her gifts and knowledge on the Healing Magic of Astrology. \nSingle event is $18 or purchase a years membership for $50 and attend meetings for Free \n\n\nJoin here https://atlantaastrology.com/product/annual-membership/ \n  \n\n\n\n\n\nAbout Elena Lumen\, Phd\n\n\nElena Lumen\, PhD\, is a traditional astrologer\, retired psychologist\, and healing arts professional with a thriving online consulting and teaching practice. She specializes in traditional Western astrology\, with a focus on horary\, predictive\, and electional techniques. Her current research interests include Persian and Arabic astrology\, as well as the role of astrology in mental health and spiritual guidance. \n​ \nDr. Lumen serves on the faculty of the International Academy of Astrology and is the founder of the Lumen School of Classical Astrology\, where she teaches courses in horary\, predictive\, and electional astrology. She is an internationally recognized lecturer and frequently presents at astrological organizations worldwide\, including ISAR\, OPA\, and will be presenting at UAC 2026. Dr. Lumen also leads an ongoing tutoring group and offers personalized instruction to her students. \n​ \nIn 2011\, she completed her doctoral dissertation on the archetypal and psychological value of astrology in the search for meaning at the Institute of Transpersonal Psychology in California. After graduation\, she worked for a decade as a psychotherapist specializing in creative expression and trauma-informed care. \n​
URL:https://atlantaastrology.com/event/november-meeting-with-elena-lumen/
CATEGORIES:Monthly Meeting & Lecture
ATTACH;FMTTYPE=image/jpeg:https://atlantaastrology.com/wp-content/uploads/2026/01/Elena-Lumen.jpg
END:VEVENT
BEGIN:VEVENT
DTSTART;TZID=America/New_York:20261217T193000
DTEND;TZID=America/New_York:20261217T210000
DTSTAMP:20260423T164415
CREATED:20260125T154859Z
LAST-MODIFIED:20260320T021827Z
UID:31187-1797535800-1797541200@atlantaastrology.com
SUMMARY:December Meeting Solstice Party
DESCRIPTION:Celebrate the December Solstice with the Atlanta Astrology Group at our joyful potluck gathering—a time to reconnect with familiar faces and welcome new ones into the circle. This is a beautiful chance to share food\, stories\, and starlore with fellow astrology aficionados who truly get it. Come as you are\, bring a dish if you can\, and open the door to conversations that often turn into lifelong friendships under the sky we all love
URL:https://atlantaastrology.com/event/december-meeting-solstice-party/
CATEGORIES:Monthly Meeting & Lecture
ATTACH;FMTTYPE=image/jpeg:https://atlantaastrology.com/wp-content/uploads/2026/01/Decembersolstice.jpg
END:VEVENT
END:VCALENDAR