BEGIN:VCALENDAR
VERSION:2.0
PRODID:-//Atlanta Astrology - ECPv6.15.16.1//NONSGML v1.0//EN
CALSCALE:GREGORIAN
METHOD:PUBLISH
X-WR-CALNAME:Atlanta Astrology
X-ORIGINAL-URL:https://atlantaastrology.com
X-WR-CALDESC:Events for Atlanta Astrology
REFRESH-INTERVAL;VALUE=DURATION:PT1H
X-Robots-Tag:noindex
X-PUBLISHED-TTL:PT1H
BEGIN:VTIMEZONE
TZID:America/New_York
BEGIN:DAYLIGHT
TZOFFSETFROM:-0500
TZOFFSETTO:-0400
TZNAME:EDT
DTSTART:20200308T070000
END:DAYLIGHT
BEGIN:STANDARD
TZOFFSETFROM:-0400
TZOFFSETTO:-0500
TZNAME:EST
DTSTART:20201101T060000
END:STANDARD
BEGIN:DAYLIGHT
TZOFFSETFROM:-0500
TZOFFSETTO:-0400
TZNAME:EDT
DTSTART:20210314T070000
END:DAYLIGHT
BEGIN:STANDARD
TZOFFSETFROM:-0400
TZOFFSETTO:-0500
TZNAME:EST
DTSTART:20211107T060000
END:STANDARD
BEGIN:DAYLIGHT
TZOFFSETFROM:-0500
TZOFFSETTO:-0400
TZNAME:EDT
DTSTART:20220313T070000
END:DAYLIGHT
BEGIN:STANDARD
TZOFFSETFROM:-0400
TZOFFSETTO:-0500
TZNAME:EST
DTSTART:20221106T060000
END:STANDARD
BEGIN:DAYLIGHT
TZOFFSETFROM:-0500
TZOFFSETTO:-0400
TZNAME:EDT
DTSTART:20230312T070000
END:DAYLIGHT
BEGIN:STANDARD
TZOFFSETFROM:-0400
TZOFFSETTO:-0500
TZNAME:EST
DTSTART:20231105T060000
END:STANDARD
END:VTIMEZONE
BEGIN:VEVENT
DTSTART;TZID=America/New_York:20221117T193000
DTEND;TZID=America/New_York:20221117T210000
DTSTAMP:20260423T181513
CREATED:20220723T182004Z
LAST-MODIFIED:20220814T171323Z
UID:25770-1668713400-1668718800@atlantaastrology.com
SUMMARY:Feral Planets: Where the Wild Things Are by Jackie Slevin
DESCRIPTION:The ancients called unaspected planets feral\, or wild. Discover how these “stray cats” create a disconnect in the psyche and learn how they can be “domesticated” in a horoscope. \nSpeaker bio: \nJackie Slevin M.A.\, C.A. NCGR-PAA\, is the NCGR Director of Education and author of Finding Success in the Horoscope\, available on Amazon.  A graduate of Classical Studies in Horary and  biography writer for Lois Rodden’s Astrodatabank\, she was a Track Coordinator and speaker at UACs 1998\, 2002\, and 2012\, a Free Speech presenter at UAC 2008\, and has lectured and been published internationally.  She currently writes the Daily Guides\, Love\, Money\, Health\, and Birthday  columns for Horoscope Guide Magazine. \nThis is a hybrid meeting. Physical doors open at 7:00 pm. Digital Doors open at 7:15 pm. MAAS Members and paid visitors will be sent a Zoom link.
URL:https://atlantaastrology.com/event/feral-planets-where-the-wild-things-are-by-jackie-slevin/
LOCATION:The Rene Goodale Learning Center\, 2054 Harobi Drive\, Tucker\, GA\, 30084\, United States
CATEGORIES:Monthly Meeting & Lecture
ATTACH;FMTTYPE=image/jpeg:https://atlantaastrology.com/wp-content/uploads/2022/07/new-Jackie-photo.jpg
END:VEVENT
BEGIN:VEVENT
DTSTART;TZID=America/New_York:20221020T193000
DTEND;TZID=America/New_York:20221020T213000
DTSTAMP:20260423T181513
CREATED:20220928T150059Z
LAST-MODIFIED:20220928T150059Z
UID:25893-1666294200-1666301400@atlantaastrology.com
SUMMARY:Midpoints--Astrology’s Primal Cohesive Force with Mattew Ouimet\, PhD
DESCRIPTION:Midpoints reveal how every part of the birth chart is in meaningful dialogue with the whole nativity\, and how this dialogue has inflection points that can be understood\, interpreted\, and predicted.  Midpoints echo the core personality while providing unique insights into the need structure suggested in the nativity.  They also provide an astonishingly descriptive\, accurate\, and flexible predictive tool through their incorporation into solar arcs and transits that will lend vivid new insights to your client consultations! \nAbout Matthew: \nMatthew J. Ouimet\, Ph.D. is a second generation consulting astrologer with forty years experience specializing in a blend of Modern Psychological and Traditional Astrology.  He is a Highest Honors graduate of Noel Tyl’s Masters Level Course in Astrological Consulting\, and has certifications in Hellenistic and Horary Astrology from Chris Brennan and Alphee Lavoie respectively. Matthew’s client work and teaching explore the convergence of Traditional astrological techniques and modern developmental psychology\, looking closely at how character and events\, nature and nurture\, manifest in the horoscope.  He lives in Northern Virginia\, not far from Washington\, DC and the Appalachian Mountains.  His website is RealWorldAstrology.com. \nThis is a hybrid meeting. Members and paid attendees will be sent a Zoom link.
URL:https://atlantaastrology.com/event/midpoints-astrologys-primal-cohesive-force-with-mattew-ouimet-phd/
LOCATION:The Rene Goodale Learning Center\, 2054 Harobi Drive\, Tucker\, GA\, 30084\, United States
CATEGORIES:Monthly Meeting & Lecture
ATTACH;FMTTYPE=image/jpeg:https://atlantaastrology.com/wp-content/uploads/2022/09/IMG47464_print-scaled.jpg
END:VEVENT
BEGIN:VEVENT
DTSTART;TZID=America/New_York:20220915T193000
DTEND;TZID=America/New_York:20220915T210000
DTSTAMP:20260423T181513
CREATED:20220723T181048Z
LAST-MODIFIED:20220814T170306Z
UID:25765-1663270200-1663275600@atlantaastrology.com
SUMMARY:READING THE HOUSES IN REVERSE:  The Soul’s Process Of Choosing Its Next Incarnation by Lin Ewing
DESCRIPTION:Prior to incarnation the soul goes through the process of evaluation as to how an astrological birth chart will be set up in order to give the soul the challenges and skills necessary for the next incarnation.  Reading the houses of the chart in reverse order we can decode the choices the soul has made and see the process through which it went in order to have the best opportunity for growth in the next incarnation. \nReading the houses in reverse is not a substitute for reading the houses in the direction of one through twelve.  Instead\, it is a way to see and understand the soul’s karmic\, reincarnational issues as shown in the chart by following the journey through conception\, birth\, maturity\, death\, and the return to spirit.  We can see the soul’s purpose in the incarnation as designated through the template of the birth chart. \nLIN EWING BIO \nLin Ewing is an astrologer and Akashic Record reader located in Chicago\, Illinois.  In addition to doing Akashic Record and astrological readings\, Lin offers astrology classes for total beginners as well as workshops for those more advanced and for professional astrologers who wish to expand their understanding and knowledge of specific topics within astrology. \nReach Lin at linewing@astrologicaldetails.com.  Website:  www.astrologicaldetails.com \nThis is a hybrid meeting. Members and paid visitors will be sent a Zoom link. Physical doors open at 7:00 pm. Digital doors open at 7:15 pm.
URL:https://atlantaastrology.com/event/reading-the-houses-in-reverse-the-souls-process-of-choosing-its-next-incarnation/
LOCATION:The Rene Goodale Learning Center\, 2054 Harobi Drive\, Tucker\, GA\, 30084\, United States
CATEGORIES:Monthly Meeting & Lecture
ATTACH;FMTTYPE=image/jpeg:https://atlantaastrology.com/wp-content/uploads/2022/07/Lin-Ewing-Photo.jpg
END:VEVENT
BEGIN:VEVENT
DTSTART;TZID=America/New_York:20220818T193000
DTEND;TZID=America/New_York:20220818T210000
DTSTAMP:20260423T181513
CREATED:20220406T032052Z
LAST-MODIFIED:20220814T170110Z
UID:25411-1660851000-1660856400@atlantaastrology.com
SUMMARY:Vocational Astrology with Omari Martin
DESCRIPTION:The presentation will focus on the practical application of Vocational Astrology for the purpose of identifying possible career paths and income earning potential in consideration of the natal chart\, progressions\, and transits of an individual.  The vocational houses will be explored and discussed.  Electional astrology will be used to identify opportune times to apply for\, interview for\, start\, and resign from a position.  Transiting Saturn will be given attention as sign post for a potential career shift. \nOmari is a life member and certified professional astrologer with the American Federation Astrologers\, life member of the Organization for Professional Astrology\, President of The Friends of Astrology\, Inc.\, and Board Chair of Kepler College.  He is the owner of SOULAR WISDOM™ and ASTROPRENEURSHIP®. He has presented at NORWAC\, United Astrology Conference\, OPA\, Indian Institute of Oriental Heritage\, International Society of Astrological Research\, the Astrological Association and several chapters of NCGR. He has been a guest on KUBU 96.5 FM. \nYou may attend remotely via Zoom; this is free for MAAS members who will be sent Zoom link the week of the meeting. \nNon-members may also attend remotely via Zoom for $18. Please pay through PayPal no later than Tuesday\, August 16th to be sent a Zoom link. \nThe virtual door opens at 7:15. The lecture starts at 7:30
URL:https://atlantaastrology.com/event/vocational-astrology-with-omari-martin/
LOCATION:The Rene Goodale Learning Center\, 2054 Harobi Drive\, Tucker\, GA\, 30084\, United States
CATEGORIES:Monthly Meeting & Lecture
END:VEVENT
BEGIN:VEVENT
DTSTART;TZID=America/New_York:20220721T153000
DTEND;TZID=America/New_York:20220721T170000
DTSTAMP:20260423T181513
CREATED:20220406T030705Z
LAST-MODIFIED:20220512T192228Z
UID:25407-1658417400-1658422800@atlantaastrology.com
SUMMARY:Keys to a Kingdom: Dispositorship Demystified with Wade Caves
DESCRIPTION:Keys to a kingdom: dispositorship demystified.’ Despite its ubiquitous nature\, leveraging dispositorship (ruling the degree occupied by a planet or point) as a technique has a steep adoption curve\, perhaps because so little has been dedicated to its study in the West. Contained within the idea of dispositorship we find acknowledgement of humanity’s wrestling with profound spiritual principles: the contrast between restoration and deprivation\, theories on the soul’s interaction with the material\, how energy and ideas are transferred from one being to another\, etc. Let’s explore \nWade Caves is an astrological consultant and educator specializing in horary\, electional and classical astrological technique. He was certified with honors from the Mayo School of Astrology and has expert knowledge of traditional and modern psychological methods of chart delineation. Wade’s passion is in understanding the origins of astrological symbolism and finding reliable ways to put this information to practical use in consultation. He is the editor and annotator of the 300th anniversary edition of William Lilly’s History of His Life and Times (Rubedo Press.
URL:https://atlantaastrology.com/event/keys-to-a-kingdom-dispositorship-demystified-with-wade-caves/
LOCATION:The Rene Goodale Learning Center\, 2054 Harobi Drive\, Tucker\, GA\, 30084\, United States
CATEGORIES:Monthly Meeting & Lecture
END:VEVENT
BEGIN:VEVENT
DTSTART;TZID=America/New_York:20211216T143000
DTEND;TZID=America/New_York:20211216T160000
DTSTAMP:20260423T181513
CREATED:20211208T000131Z
LAST-MODIFIED:20211208T003339Z
UID:24645-1639665000-1639670400@atlantaastrology.com
SUMMARY:Annual Christmas Party
DESCRIPTION:Come celebrate the holidays with us at the MAAS Pyramid! Yes\, we’re opening the building back up and are reviving our annual ritual of a Pot Luck Party. Bring yourself\, friends\, family members along with a dish you’d like to share. It will be great to gather together again as a group! \nWe look forward to seeing you and wish you all a very Merry Christmas and a Happy and Healthy New Year!
URL:https://atlantaastrology.com/event/annual-christmas-party/
LOCATION:The Rene Goodale Learning Center\, 2054 Harobi Drive\, Tucker\, GA\, 30084\, United States
CATEGORIES:Monthly Meeting & Lecture
ATTACH;FMTTYPE=image/jpeg:https://atlantaastrology.com/wp-content/uploads/2021/12/event_christmas-party-1.jpg
END:VEVENT
END:VCALENDAR