BEGIN:VCALENDAR
VERSION:2.0
PRODID:-//Atlanta Astrology - ECPv6.15.16.1//NONSGML v1.0//EN
CALSCALE:GREGORIAN
METHOD:PUBLISH
X-ORIGINAL-URL:https://atlantaastrology.com
X-WR-CALDESC:Events for Atlanta Astrology
REFRESH-INTERVAL;VALUE=DURATION:PT1H
X-Robots-Tag:noindex
X-PUBLISHED-TTL:PT1H
BEGIN:VTIMEZONE
TZID:America/New_York
BEGIN:DAYLIGHT
TZOFFSETFROM:-0500
TZOFFSETTO:-0400
TZNAME:EDT
DTSTART:20240310T070000
END:DAYLIGHT
BEGIN:STANDARD
TZOFFSETFROM:-0400
TZOFFSETTO:-0500
TZNAME:EST
DTSTART:20241103T060000
END:STANDARD
BEGIN:DAYLIGHT
TZOFFSETFROM:-0500
TZOFFSETTO:-0400
TZNAME:EDT
DTSTART:20250309T070000
END:DAYLIGHT
BEGIN:STANDARD
TZOFFSETFROM:-0400
TZOFFSETTO:-0500
TZNAME:EST
DTSTART:20251102T060000
END:STANDARD
BEGIN:DAYLIGHT
TZOFFSETFROM:-0500
TZOFFSETTO:-0400
TZNAME:EDT
DTSTART:20260308T070000
END:DAYLIGHT
BEGIN:STANDARD
TZOFFSETFROM:-0400
TZOFFSETTO:-0500
TZNAME:EST
DTSTART:20261101T060000
END:STANDARD
END:VTIMEZONE
BEGIN:VEVENT
DTSTART;TZID=America/New_York:20250320T193000
DTEND;TZID=America/New_York:20250320T210000
DTSTAMP:20260424T114000
CREATED:20250306T221140Z
LAST-MODIFIED:20250306T221140Z
UID:30561-1742499000-1742504400@atlantaastrology.com
SUMMARY:March Monthly Meeting
DESCRIPTION:Part Two of Nostradamus: How did he do it? by Larry Filoso\n  \nIn the first episode of “Nostradamus: How Did He Do It?“\, which was broadcast on February 20\, 2025\, we examined two of the four tools that Nostradamus used to make his predictions. The first two were his considerable psychic abilities and how governments today use individuals with those talents to help protect their citizens. Top-secret military scientists call this Remote Viewing. \nIn Part Two\, we will review Nostradamus’s other two tools: ancient hidden astrology books and A Computer from Another Time. Prepare to be surprised.
URL:https://atlantaastrology.com/event/march-monthly-meeting/
LOCATION:The Rene Goodale Learning Center\, 2054 Harobi Drive\, Tucker\, GA\, 30084\, United States
CATEGORIES:Monthly Meeting & Lecture
ATTACH;FMTTYPE=image/jpeg:https://atlantaastrology.com/wp-content/uploads/2023/06/nostradamus2-e1686320498493.jpg
END:VEVENT
END:VCALENDAR