BEGIN:VCALENDAR
VERSION:2.0
PRODID:-//Atlanta Astrology - ECPv6.15.16.1//NONSGML v1.0//EN
CALSCALE:GREGORIAN
METHOD:PUBLISH
X-WR-CALNAME:Atlanta Astrology
X-ORIGINAL-URL:https://atlantaastrology.com
X-WR-CALDESC:Events for Atlanta Astrology
REFRESH-INTERVAL;VALUE=DURATION:PT1H
X-Robots-Tag:noindex
X-PUBLISHED-TTL:PT1H
BEGIN:VTIMEZONE
TZID:America/New_York
BEGIN:DAYLIGHT
TZOFFSETFROM:-0500
TZOFFSETTO:-0400
TZNAME:EDT
DTSTART:20220313T070000
END:DAYLIGHT
BEGIN:STANDARD
TZOFFSETFROM:-0400
TZOFFSETTO:-0500
TZNAME:EST
DTSTART:20221106T060000
END:STANDARD
BEGIN:DAYLIGHT
TZOFFSETFROM:-0500
TZOFFSETTO:-0400
TZNAME:EDT
DTSTART:20230312T070000
END:DAYLIGHT
BEGIN:STANDARD
TZOFFSETFROM:-0400
TZOFFSETTO:-0500
TZNAME:EST
DTSTART:20231105T060000
END:STANDARD
BEGIN:DAYLIGHT
TZOFFSETFROM:-0500
TZOFFSETTO:-0400
TZNAME:EDT
DTSTART:20240310T070000
END:DAYLIGHT
BEGIN:STANDARD
TZOFFSETFROM:-0400
TZOFFSETTO:-0500
TZNAME:EST
DTSTART:20241103T060000
END:STANDARD
END:VTIMEZONE
BEGIN:VEVENT
DTSTART;TZID=America/New_York:20230720T193000
DTEND;TZID=America/New_York:20230720T210000
DTSTAMP:20260425T202135
CREATED:20230623T232458Z
LAST-MODIFIED:20230623T232458Z
UID:27181-1689881400-1689886800@atlantaastrology.com
SUMMARY:The First Human Clone? with Larry Filoso
DESCRIPTION:The First Human Clone?\nTwo days after Christmas in 2002 a scientist announced to televisions all over the world that her research team had successfully brought to birth the first human clone in history. They called the clone Eve. Her mother (and the donor of the DNA) was a 31-year old American. Dr. Brigitte Boisselier\, CEO of Clonaid\, also said that three more clones would be born the following month\, and a fifth later. \nAt the July meeting we will watch the announcement as it occurred in December 2002\, then we will discuss the natal and progressed charts of the person who may be The First Human Clone. \n \nMeet the Presenter\nLarry A. Filoso is an Atlanta native. He was a publicity photographer in the 1970’s and an advertising photographer for Ted Turner in the 1980’s. He started a business selling\, repairing and programming computers in 1989 and closed that business in 2015. \nHe learned astrology in 1980 from David Railey at “The Daily Planets”. Since then he has specialized in the study of Nostradamus\, and has so far written two “deep-dive” articles about him for the AFA.
URL:https://atlantaastrology.com/event/the-first-human-clone-with-larry-filoso/
CATEGORIES:Monthly Meeting & Lecture
ATTACH;FMTTYPE=image/jpeg:https://atlantaastrology.com/wp-content/uploads/2023/06/First-Clone-Eve.jpeg
END:VEVENT
END:VCALENDAR