BEGIN:VCALENDAR
VERSION:2.0
PRODID:-//Atlanta Astrology - ECPv6.15.16.1//NONSGML v1.0//EN
CALSCALE:GREGORIAN
METHOD:PUBLISH
X-ORIGINAL-URL:https://atlantaastrology.com
X-WR-CALDESC:Events for Atlanta Astrology
REFRESH-INTERVAL;VALUE=DURATION:PT1H
X-Robots-Tag:noindex
X-PUBLISHED-TTL:PT1H
BEGIN:VTIMEZONE
TZID:America/New_York
BEGIN:DAYLIGHT
TZOFFSETFROM:-0500
TZOFFSETTO:-0400
TZNAME:EDT
DTSTART:20220313T070000
END:DAYLIGHT
BEGIN:STANDARD
TZOFFSETFROM:-0400
TZOFFSETTO:-0500
TZNAME:EST
DTSTART:20221106T060000
END:STANDARD
BEGIN:DAYLIGHT
TZOFFSETFROM:-0500
TZOFFSETTO:-0400
TZNAME:EDT
DTSTART:20230312T070000
END:DAYLIGHT
BEGIN:STANDARD
TZOFFSETFROM:-0400
TZOFFSETTO:-0500
TZNAME:EST
DTSTART:20231105T060000
END:STANDARD
BEGIN:DAYLIGHT
TZOFFSETFROM:-0500
TZOFFSETTO:-0400
TZNAME:EDT
DTSTART:20240310T070000
END:DAYLIGHT
BEGIN:STANDARD
TZOFFSETFROM:-0400
TZOFFSETTO:-0500
TZNAME:EST
DTSTART:20241103T060000
END:STANDARD
END:VTIMEZONE
BEGIN:VEVENT
DTSTART;TZID=America/New_York:20230615T193000
DTEND;TZID=America/New_York:20230615T210000
DTSTAMP:20260425T222515
CREATED:20230522T133829Z
LAST-MODIFIED:20230623T225145Z
UID:27007-1686857400-1686862800@atlantaastrology.com
SUMMARY:Astrology: It's a Family Affair
DESCRIPTION:In honor of Mother’s and Father’s Days\, we’re dedicating some time to exploring the astrology of family.\nWe’ll look at how family details and dynamics show up in a variety of birth charts – things like:\n\nParents\nSiblings \nFamily Values\nHome Life\nAncestors\n\nEveryone is invited to share your own family experience and how it shows up in your birth chart. \n\nHave you had the opportunity to sit with your chart and contemplate how your family shows up? Submit your birth chart info to info@atlantaastrology.com if you plan to attend and would like to share about your family story\, so we can have your chart ready to view on screen for the group to see and learn from. \nHave you taken the time to look at a handful of birth charts in your Family Tree? Have you compared your parents and siblings charts with your own? You’ll be invited to share ancestral patterns that show up in your family during our time together (i.e. similar birthdates\, Sun/Moon/Rising signs\, a strong aspect with a certain planet\, etc.). We won’t be able to view entire family trees of birth charts\, but we can still learn from interesting patterns you’ve observed and experienced by being an astrological observer of multiple family charts.\n\nAs Erin Sullivan points out so beautifully in the introduction to her book\, The Astrology of Family Dynamics\, “The solar system itself operates much in the same way as a family does… powerful bodies inextricably tied in together\, creating a self-supporting life-system – an organic whole made up of unique and individualistic parts.”  \nThis conversation will be facilitated by Julie Remington. See you at the event!  \nFYI #hybrid-event:\n \n\njoin us on-land at 2054 Harobi Dr\, Tucker\, GA 30084\nor on-line in Zoom via private link shared w/guests after ticket purchase and to members the week of the event\n\nQuestions? info@atlantaastrology.com
URL:https://atlantaastrology.com/event/its-a-family-affair/
CATEGORIES:Monthly Meeting & Lecture
ATTACH;FMTTYPE=image/jpeg:https://atlantaastrology.com/wp-content/uploads/2022/12/moon-phases.jpg
END:VEVENT
END:VCALENDAR