BEGIN:VCALENDAR
VERSION:2.0
PRODID:-//Atlanta Astrology - ECPv6.15.16.1//NONSGML v1.0//EN
CALSCALE:GREGORIAN
METHOD:PUBLISH
X-ORIGINAL-URL:https://atlantaastrology.com
X-WR-CALDESC:Events for Atlanta Astrology
REFRESH-INTERVAL;VALUE=DURATION:PT1H
X-Robots-Tag:noindex
X-PUBLISHED-TTL:PT1H
BEGIN:VTIMEZONE
TZID:America/New_York
BEGIN:DAYLIGHT
TZOFFSETFROM:-0500
TZOFFSETTO:-0400
TZNAME:EDT
DTSTART:20250309T070000
END:DAYLIGHT
BEGIN:STANDARD
TZOFFSETFROM:-0400
TZOFFSETTO:-0500
TZNAME:EST
DTSTART:20251102T060000
END:STANDARD
BEGIN:DAYLIGHT
TZOFFSETFROM:-0500
TZOFFSETTO:-0400
TZNAME:EDT
DTSTART:20260308T070000
END:DAYLIGHT
BEGIN:STANDARD
TZOFFSETFROM:-0400
TZOFFSETTO:-0500
TZNAME:EST
DTSTART:20261101T060000
END:STANDARD
BEGIN:DAYLIGHT
TZOFFSETFROM:-0500
TZOFFSETTO:-0400
TZNAME:EDT
DTSTART:20270314T070000
END:DAYLIGHT
BEGIN:STANDARD
TZOFFSETFROM:-0400
TZOFFSETTO:-0500
TZNAME:EST
DTSTART:20271107T060000
END:STANDARD
END:VTIMEZONE
BEGIN:VEVENT
DTSTART;TZID=America/New_York:20260716T193000
DTEND;TZID=America/New_York:20260716T210000
DTSTAMP:20260423T181658
CREATED:20260125T154720Z
LAST-MODIFIED:20260320T021611Z
UID:31165-1784230200-1784235600@atlantaastrology.com
SUMMARY:July Meeting Bill Meridian on Financial Astrology
DESCRIPTION:Bill Meridian is a leading expert on financial astrologer. Come hear him speak on a variety of astrological influences and predictive techniques for finances and more. \nMore information to be announced\, \nBill Meridian holds BS &amp; MBA degrees from NYU and has worked on the stock market since\n1966. He began to study astrology in 1972. He has twice been ranked market timer of the year by\nTimer Digest and was ranked number 3 over 19 years versus 160 services. Bill was advisor to\nlegendary Wall Street trader Frankie Joe for 12 years. He trained to be a core energetic therapist\nwith Dr. John Pierrakos in NYC for 9 years. He studied Zen at Wellspring Monastery. His\ninterpretive work is a combination of his training in core energetics and Zen practice. His 4\nbooks are Planetary Stock Trading 4\, Planetary Economic Forecasting\, Predictive Power of\nEclipse Paths\, and Mastering Geopolitical Prediction. He currently runs an investment business\nfrom his homes in Vienna and the USA. Bill is a member of the board of the Foundation for the\nStudy of Cycles. Website: billmeridian.com and billmeridianastrology.com. \nSingle event is $18 or purchase a years membership for $50 and attend meetings for Free \nJoin here https://atlantaastrology.com/product/annual-membership/
URL:https://atlantaastrology.com/event/july-meeting-bill-meridian-on-financial-astrology/
CATEGORIES:Monthly Meeting & Lecture
ATTACH;FMTTYPE=image/jpeg:https://atlantaastrology.com/wp-content/uploads/2026/01/Bill-Meridian.jpg
END:VEVENT
END:VCALENDAR