BEGIN:VCALENDAR
VERSION:2.0
PRODID:-//Atlanta Astrology - ECPv6.15.16.1//NONSGML v1.0//EN
CALSCALE:GREGORIAN
METHOD:PUBLISH
X-ORIGINAL-URL:https://atlantaastrology.com
X-WR-CALDESC:Events for Atlanta Astrology
REFRESH-INTERVAL;VALUE=DURATION:PT1H
X-Robots-Tag:noindex
X-PUBLISHED-TTL:PT1H
BEGIN:VTIMEZONE
TZID:America/New_York
BEGIN:DAYLIGHT
TZOFFSETFROM:-0500
TZOFFSETTO:-0400
TZNAME:EDT
DTSTART:20240310T070000
END:DAYLIGHT
BEGIN:STANDARD
TZOFFSETFROM:-0400
TZOFFSETTO:-0500
TZNAME:EST
DTSTART:20241103T060000
END:STANDARD
BEGIN:DAYLIGHT
TZOFFSETFROM:-0500
TZOFFSETTO:-0400
TZNAME:EDT
DTSTART:20250309T070000
END:DAYLIGHT
BEGIN:STANDARD
TZOFFSETFROM:-0400
TZOFFSETTO:-0500
TZNAME:EST
DTSTART:20251102T060000
END:STANDARD
BEGIN:DAYLIGHT
TZOFFSETFROM:-0500
TZOFFSETTO:-0400
TZNAME:EDT
DTSTART:20260308T070000
END:DAYLIGHT
BEGIN:STANDARD
TZOFFSETFROM:-0400
TZOFFSETTO:-0500
TZNAME:EST
DTSTART:20261101T060000
END:STANDARD
END:VTIMEZONE
BEGIN:VEVENT
DTSTART;TZID=America/New_York:20250417T193000
DTEND;TZID=America/New_York:20250417T210000
DTSTAMP:20260424T081754
CREATED:20250328T230439Z
LAST-MODIFIED:20250328T230439Z
UID:30600-1744918200-1744923600@atlantaastrology.com
SUMMARY:April Monthly Meeting
DESCRIPTION:The Aries Point – Mundane Applications as well as Natal Chart\nFrances Rackow studied the Aries Point as a key indicator in the natal chart during her studies with Noel Tyl and has previously presented this topic.  We will revisit some of the reasons why these 0-degree Cardinal points seem so significant at the April astrology meeting. \nTransiting Neptune and Saturn are going to be at the Aries Point this year\, so we can have an interesting conversation about the potential manifestations of this very significant event.  Fran will have examples from the past to give us some insight. \nCome join us in person or via Zoom to have an enjoyable evening of astrology!  Bring your Neptune keywords and contribute to the discussion! \nBio: \nFrances Rackow is a graduate of Noel Tyl’s Master Astrology Course\, 2009\, and Ray Merriman’s Market Timing Academy in 2015. \n 
URL:https://atlantaastrology.com/event/april-monthly-meeting/
CATEGORIES:Monthly Meeting & Lecture
ATTACH;FMTTYPE=image/jpeg:https://atlantaastrology.com/wp-content/uploads/2025/03/aries.jpg
END:VEVENT
END:VCALENDAR