BEGIN:VCALENDAR
VERSION:2.0
PRODID:-//Atlanta Astrology - ECPv6.15.16.1//NONSGML v1.0//EN
CALSCALE:GREGORIAN
METHOD:PUBLISH
X-WR-CALNAME:Atlanta Astrology
X-ORIGINAL-URL:https://atlantaastrology.com
X-WR-CALDESC:Events for Atlanta Astrology
REFRESH-INTERVAL;VALUE=DURATION:PT1H
X-Robots-Tag:noindex
X-PUBLISHED-TTL:PT1H
BEGIN:VTIMEZONE
TZID:America/New_York
BEGIN:DAYLIGHT
TZOFFSETFROM:-0500
TZOFFSETTO:-0400
TZNAME:EDT
DTSTART:20220313T070000
END:DAYLIGHT
BEGIN:STANDARD
TZOFFSETFROM:-0400
TZOFFSETTO:-0500
TZNAME:EST
DTSTART:20221106T060000
END:STANDARD
BEGIN:DAYLIGHT
TZOFFSETFROM:-0500
TZOFFSETTO:-0400
TZNAME:EDT
DTSTART:20230312T070000
END:DAYLIGHT
BEGIN:STANDARD
TZOFFSETFROM:-0400
TZOFFSETTO:-0500
TZNAME:EST
DTSTART:20231105T060000
END:STANDARD
BEGIN:DAYLIGHT
TZOFFSETFROM:-0500
TZOFFSETTO:-0400
TZNAME:EDT
DTSTART:20240310T070000
END:DAYLIGHT
BEGIN:STANDARD
TZOFFSETFROM:-0400
TZOFFSETTO:-0500
TZNAME:EST
DTSTART:20241103T060000
END:STANDARD
END:VTIMEZONE
BEGIN:VEVENT
DTSTART;TZID=America/New_York:20230420T193000
DTEND;TZID=America/New_York:20230420T210000
DTSTAMP:20260425T234859
CREATED:20230403T184332Z
LAST-MODIFIED:20230403T184332Z
UID:26618-1682019000-1682024400@atlantaastrology.com
SUMMARY:April 20 2023 Meeting "Mystery Movie Night"!
DESCRIPTION:Come join us for Mystery Movie Night. We have Comedy\, mystery\, tomfoolery\, skullduggery\, AND astrology – all in one movie! \n* When Were You Born? * \nThe San Francisco police need help solving a murder on a cruise ship. Anna May Wong gets it wight! Follow her thrilling exploits as she does the Horror scopes of victims and suspects\, explaining her interpretations as she solves the murder. A once-in-a-lifetime treat for astrologers! Manley P. Hall\, famous astrology author\, confidant to the stars (in Hollywood) and one of Elvis’s favorites\, wrote the story and gives a rare\, on-camera introduction. \n1938  B & W 1 hour 5 minutes. \nWe’ll open up the floor for discussion after the movie. We look forward to seeing you online or at the Pyramid.
URL:https://atlantaastrology.com/event/april-20-2023-meeting-mystery-movie-night/
CATEGORIES:Monthly Meeting & Lecture
ATTACH;FMTTYPE=image/jpeg:https://atlantaastrology.com/wp-content/uploads/2023/04/MAAS1.jpg
END:VEVENT
END:VCALENDAR