BEGIN:VCALENDAR
VERSION:2.0
PRODID:-//Atlanta Astrology - ECPv6.15.16.1//NONSGML v1.0//EN
CALSCALE:GREGORIAN
METHOD:PUBLISH
X-ORIGINAL-URL:https://atlantaastrology.com
X-WR-CALDESC:Events for Atlanta Astrology
REFRESH-INTERVAL;VALUE=DURATION:PT1H
X-Robots-Tag:noindex
X-PUBLISHED-TTL:PT1H
BEGIN:VTIMEZONE
TZID:America/New_York
BEGIN:DAYLIGHT
TZOFFSETFROM:-0500
TZOFFSETTO:-0400
TZNAME:EDT
DTSTART:20240310T070000
END:DAYLIGHT
BEGIN:STANDARD
TZOFFSETFROM:-0400
TZOFFSETTO:-0500
TZNAME:EST
DTSTART:20241103T060000
END:STANDARD
BEGIN:DAYLIGHT
TZOFFSETFROM:-0500
TZOFFSETTO:-0400
TZNAME:EDT
DTSTART:20250309T070000
END:DAYLIGHT
BEGIN:STANDARD
TZOFFSETFROM:-0400
TZOFFSETTO:-0500
TZNAME:EST
DTSTART:20251102T060000
END:STANDARD
BEGIN:DAYLIGHT
TZOFFSETFROM:-0500
TZOFFSETTO:-0400
TZNAME:EDT
DTSTART:20260308T070000
END:DAYLIGHT
BEGIN:STANDARD
TZOFFSETFROM:-0400
TZOFFSETTO:-0500
TZNAME:EST
DTSTART:20261101T060000
END:STANDARD
END:VTIMEZONE
BEGIN:VEVENT
DTSTART;TZID=America/New_York:20250717T193000
DTEND;TZID=America/New_York:20250717T210000
DTSTAMP:20260424T025154
CREATED:20250624T170347Z
LAST-MODIFIED:20250624T170600Z
UID:30825-1752780600-1752786000@atlantaastrology.com
SUMMARY:Exploring Astrodynes\, also known as Cosmodynes
DESCRIPTION:Exploring Astrodynes\, also known as Cosmodynes \nThe topic of Astrodynes is not commonly discussed in astrological circles\, however\, it serves as a fascinating tool for evaluating the strengths and weaknesses of planetary placements\, signs\, houses\, and aspects. They provide numerical scores that clarify interpretations based on birth chart data. \nPlease join us at our July meeting as we explore this interesting technique. Feel free to bring your own chart\, or better yet\, send your birth data: date\, time (the more accurate the time\, the better) and place (city\, state and country\, if applicable) prior to the meeting so we have it ready to discuss. Email your data to “Info@atlantaastrology.com.” \nPrepare to come away with a few “aha” moments that will help you appreciate the apparent strengths in your chart as well as the areas you’ll need to strengthen in this lifetime. \nNote: Monthly meetings are free for members. Non-members must purchase a ticket.
URL:https://atlantaastrology.com/event/exploring-astrodynes-also-known-as-cosmodynes/
CATEGORIES:Monthly Meeting & Lecture
ATTACH;FMTTYPE=image/png:https://atlantaastrology.com/wp-content/uploads/2025/06/Planets.png
END:VEVENT
END:VCALENDAR