BEGIN:VCALENDAR
VERSION:2.0
PRODID:-//Atlanta Astrology - ECPv6.15.16.1//NONSGML v1.0//EN
CALSCALE:GREGORIAN
METHOD:PUBLISH
X-WR-CALNAME:Atlanta Astrology
X-ORIGINAL-URL:https://atlantaastrology.com
X-WR-CALDESC:Events for Atlanta Astrology
REFRESH-INTERVAL;VALUE=DURATION:PT1H
X-Robots-Tag:noindex
X-PUBLISHED-TTL:PT1H
BEGIN:VTIMEZONE
TZID:America/New_York
BEGIN:DAYLIGHT
TZOFFSETFROM:-0500
TZOFFSETTO:-0400
TZNAME:EDT
DTSTART:20240310T070000
END:DAYLIGHT
BEGIN:STANDARD
TZOFFSETFROM:-0400
TZOFFSETTO:-0500
TZNAME:EST
DTSTART:20241103T060000
END:STANDARD
BEGIN:DAYLIGHT
TZOFFSETFROM:-0500
TZOFFSETTO:-0400
TZNAME:EDT
DTSTART:20250309T070000
END:DAYLIGHT
BEGIN:STANDARD
TZOFFSETFROM:-0400
TZOFFSETTO:-0500
TZNAME:EST
DTSTART:20251102T060000
END:STANDARD
BEGIN:DAYLIGHT
TZOFFSETFROM:-0500
TZOFFSETTO:-0400
TZNAME:EDT
DTSTART:20260308T070000
END:DAYLIGHT
BEGIN:STANDARD
TZOFFSETFROM:-0400
TZOFFSETTO:-0500
TZNAME:EST
DTSTART:20261101T060000
END:STANDARD
END:VTIMEZONE
BEGIN:VEVENT
DTSTART;TZID=America/New_York:20250619T193000
DTEND;TZID=America/New_York:20250619T210000
DTSTAMP:20260424T045307
CREATED:20250531T213549Z
LAST-MODIFIED:20250615T230947Z
UID:30738-1750361400-1750366800@atlantaastrology.com
SUMMARY:Summer Solstice Meeting
DESCRIPTION:Join us at the Pyramid (a.k.a. the Rene Goodale Learning Center) on Thursday\, June 19th 7:30 PM for an evening of festivities\, food and fun! Please bring your chart\, astrological knowledge\, a dish to share and a guest or two as we: \n\nMeet each other through an Astrological Icebreaker – “Find Someone Who”. You’ll be guessing about the chart placements of participants.\nDiscuss the Summer Solstice Chart as a group\nPlay Astro-themed games such as “Written in the Stars”. We’ll be exploring the charts of some well-known people.\nShare good food and great Astrological communion\n\nDoors open at 7:00 p.m.\, and games begin at 7:30 p.m. We are also opening up participation via Zoom for the fun and games\, so if you can’t attend in person\, feel free to join us on Zoom! \nWe look forward to celebrating with you as we welcome Summer\, see you there! \n  \n  \n  \n 
URL:https://atlantaastrology.com/event/summer-solstice-meeting/
LOCATION:The Rene Goodale Learning Center\, 2054 Harobi Drive\, Tucker\, GA\, 30084\, United States
CATEGORIES:Monthly Meeting & Lecture
ATTACH;FMTTYPE=image/png:https://atlantaastrology.com/wp-content/uploads/2025/05/Sign_cusps.png
END:VEVENT
END:VCALENDAR