BEGIN:VCALENDAR
VERSION:2.0
PRODID:-//Atlanta Astrology - ECPv6.15.16.1//NONSGML v1.0//EN
CALSCALE:GREGORIAN
METHOD:PUBLISH
X-ORIGINAL-URL:https://atlantaastrology.com
X-WR-CALDESC:Events for Atlanta Astrology
REFRESH-INTERVAL;VALUE=DURATION:PT1H
X-Robots-Tag:noindex
X-PUBLISHED-TTL:PT1H
BEGIN:VTIMEZONE
TZID:America/New_York
BEGIN:DAYLIGHT
TZOFFSETFROM:-0500
TZOFFSETTO:-0400
TZNAME:EDT
DTSTART:20230312T070000
END:DAYLIGHT
BEGIN:STANDARD
TZOFFSETFROM:-0400
TZOFFSETTO:-0500
TZNAME:EST
DTSTART:20231105T060000
END:STANDARD
BEGIN:DAYLIGHT
TZOFFSETFROM:-0500
TZOFFSETTO:-0400
TZNAME:EDT
DTSTART:20240310T070000
END:DAYLIGHT
BEGIN:STANDARD
TZOFFSETFROM:-0400
TZOFFSETTO:-0500
TZNAME:EST
DTSTART:20241103T060000
END:STANDARD
BEGIN:DAYLIGHT
TZOFFSETFROM:-0500
TZOFFSETTO:-0400
TZNAME:EDT
DTSTART:20250309T070000
END:DAYLIGHT
BEGIN:STANDARD
TZOFFSETFROM:-0400
TZOFFSETTO:-0500
TZNAME:EST
DTSTART:20251102T060000
END:STANDARD
END:VTIMEZONE
BEGIN:VEVENT
DTSTART;TZID=America/New_York:20241026T130000
DTEND;TZID=America/New_York:20241026T160000
DTSTAMP:20260424T172030
CREATED:20240928T192846Z
LAST-MODIFIED:20240928T225036Z
UID:30123-1729947600-1729958400@atlantaastrology.com
SUMMARY:ELECTION 2024 WORKSHOP
DESCRIPTION:ELECTION 2024 WORKSHOP \nWith the US Presidential Election looming\, inquiring minds want to know what the astrological charts show for the candidates. We will compare the charts of past elections and the upcoming election. \nThe points of analysis include charts for Election Day and Inauguration Day with a focus on: \n\nSecondary progressions\, solar arcs\, and transits\nSolar returns\, lunar returns\, new and full moons\, and eclipses leading to Election Day and Inauguration Day.\n\nDate: October 26\, 2024\, 1-4 pm EDT at the Rene Goodale Learning Center and Zoom \nFee: MAAS Members $25\, Non-MAAS Members $30 \nThis workshop will be recorded\, and all attendees will be sent a link to the recording. The same pricing applies if you cannot attend in real time but would still like to receive a recording. \n  \nAbout the instructor\, Kathryn Silverton \nKathryn became professionally certified by the AFA in 1983. She has served on the AFA board since 2021 and on the board of MAAS in various capacities for 20 years. In addition to teaching various levels of astrology\, she is an astrological counselor and author. She specializes in medical astrology and the timing of real estate transactions. \n 
URL:https://atlantaastrology.com/event/election-2024-workshop/
LOCATION:The Rene Goodale Learning Center\, 2054 Harobi Drive\, Tucker\, GA\, 30084\, United States
CATEGORIES:Classes
ATTACH;FMTTYPE=image/jpeg:https://atlantaastrology.com/wp-content/uploads/2024/09/Election-2024-image.jpg
END:VEVENT
END:VCALENDAR