BEGIN:VCALENDAR
VERSION:2.0
PRODID:-//Atlanta Astrology - ECPv6.15.16.1//NONSGML v1.0//EN
CALSCALE:GREGORIAN
METHOD:PUBLISH
X-ORIGINAL-URL:https://atlantaastrology.com
X-WR-CALDESC:Events for Atlanta Astrology
REFRESH-INTERVAL;VALUE=DURATION:PT1H
X-Robots-Tag:noindex
X-PUBLISHED-TTL:PT1H
BEGIN:VTIMEZONE
TZID:America/New_York
BEGIN:DAYLIGHT
TZOFFSETFROM:-0500
TZOFFSETTO:-0400
TZNAME:EDT
DTSTART:20230312T070000
END:DAYLIGHT
BEGIN:STANDARD
TZOFFSETFROM:-0400
TZOFFSETTO:-0500
TZNAME:EST
DTSTART:20231105T060000
END:STANDARD
BEGIN:DAYLIGHT
TZOFFSETFROM:-0500
TZOFFSETTO:-0400
TZNAME:EDT
DTSTART:20240310T070000
END:DAYLIGHT
BEGIN:STANDARD
TZOFFSETFROM:-0400
TZOFFSETTO:-0500
TZNAME:EST
DTSTART:20241103T060000
END:STANDARD
BEGIN:DAYLIGHT
TZOFFSETFROM:-0500
TZOFFSETTO:-0400
TZNAME:EDT
DTSTART:20250309T070000
END:DAYLIGHT
BEGIN:STANDARD
TZOFFSETFROM:-0400
TZOFFSETTO:-0500
TZNAME:EST
DTSTART:20251102T060000
END:STANDARD
END:VTIMEZONE
BEGIN:VEVENT
DTSTART;TZID=America/New_York:20240215T193000
DTEND;TZID=America/New_York:20240215T210000
DTSTAMP:20260425T062421
CREATED:20240205T043224Z
LAST-MODIFIED:20240205T160452Z
UID:28350-1708025400-1708030800@atlantaastrology.com
SUMMARY:Nostradamus: How Did He Do It? with Larry Filoso
DESCRIPTION:Come join us\non February 15\, 2024 at 7:30 pm as we examine the most famous psychic astrologer of the last 500 years – Michel de Nostredame\, aka Nostradamus. We’ll discuss his life\, his prophecies and the methods he used. We will be covering the material in several published articles\, including newly-decoded prophecies which take place in our future. If you would like some background before this presentation\, view the articles published so far at: https://atlantaastrology.com/la-filoso/ \nMeet the Presenter\nLarry A. Filoso is an Atlanta native. He was a publicity photographer in the 1970’s and an advertising photographer for Ted Turner in the 1980’s. He started a business selling\, repairing and programming computers in 1989 which closed in 2015. \nHe learned astrology in 1980 from David Railey at “The Daily Planets.” Larry has continued his studies\, specializing in the research of the famous astrologer Nostradamus. Some of his work has been published in 7 different issues of the journal of the American Federation of Astrologers\, with more on the way.
URL:https://atlantaastrology.com/event/nostradamus-how-did-he-do-it-with-larry-filoso/
LOCATION:The Rene Goodale Learning Center\, 2054 Harobi Drive\, Tucker\, GA\, 30084\, United States
CATEGORIES:Monthly Meeting & Lecture
ATTACH;FMTTYPE=image/jpeg:https://atlantaastrology.com/wp-content/uploads/2024/02/nostradamus-michel-de-notre-dame-everett.jpg
END:VEVENT
END:VCALENDAR