BEGIN:VCALENDAR
VERSION:2.0
PRODID:-//Atlanta Astrology - ECPv6.15.16.1//NONSGML v1.0//EN
CALSCALE:GREGORIAN
METHOD:PUBLISH
X-ORIGINAL-URL:https://atlantaastrology.com
X-WR-CALDESC:Events for Atlanta Astrology
REFRESH-INTERVAL;VALUE=DURATION:PT1H
X-Robots-Tag:noindex
X-PUBLISHED-TTL:PT1H
BEGIN:VTIMEZONE
TZID:America/New_York
BEGIN:DAYLIGHT
TZOFFSETFROM:-0500
TZOFFSETTO:-0400
TZNAME:EDT
DTSTART:20230312T070000
END:DAYLIGHT
BEGIN:STANDARD
TZOFFSETFROM:-0400
TZOFFSETTO:-0500
TZNAME:EST
DTSTART:20231105T060000
END:STANDARD
BEGIN:DAYLIGHT
TZOFFSETFROM:-0500
TZOFFSETTO:-0400
TZNAME:EDT
DTSTART:20240310T070000
END:DAYLIGHT
BEGIN:STANDARD
TZOFFSETFROM:-0400
TZOFFSETTO:-0500
TZNAME:EST
DTSTART:20241103T060000
END:STANDARD
BEGIN:DAYLIGHT
TZOFFSETFROM:-0500
TZOFFSETTO:-0400
TZNAME:EDT
DTSTART:20250309T070000
END:DAYLIGHT
BEGIN:STANDARD
TZOFFSETFROM:-0400
TZOFFSETTO:-0500
TZNAME:EST
DTSTART:20251102T060000
END:STANDARD
END:VTIMEZONE
BEGIN:VEVENT
DTSTART;TZID=America/New_York:20240118T193000
DTEND;TZID=America/New_York:20240118T210000
DTSTAMP:20260425T080207
CREATED:20240103T023303Z
LAST-MODIFIED:20240106T232051Z
UID:28286-1705606200-1705611600@atlantaastrology.com
SUMMARY:Navigating Through Time with Fran Rackow & Kathryn Silverton
DESCRIPTION:Description:\nEmbark on a celestial voyage with our dynamic duo of astrologers\, Kathryn Silverton and Fran Rackow\, as they guide us through the cosmic currents of 2024. “Navigating Through Time” offers an exploration of Sun signs\, key planetary transits\, shifts\, and energetic highlights that will shape the tapestry of the upcoming year. \n🔮 Predictions Check-In: Reflecting on 2023 + Setting Up 2024: Fran will explore the accuracy of foresight from her 2023 presentations and share a deeper understanding of the dynamic interplay between celestial events and real-world outcomes. To include financial trends\, geo-political world stage\, and eclipses. \n🌞 Sun Signs: Our presenters will provide personalized insights for each zodiac sign\, offering a cosmic roadmap to navigate the twists and turns of 2024. \n🪐 Jupiter and Saturn Transits: Kathryn will uncover areas of expansion\, growth\, and structure\, as these mighty planets shape collective destinies and individual journeys. \n🔄 Retrogrades + Eclipses in 2024: Navigate the ebb and flow of energy as Kathryn delve’s into the retrogrades + eclipses of 2024. \n💬 Q&A and Discussion Time \nJoin us for an enlightening session as we collectively set sail through the celestial currents of 2024. This event will provide valuable insights and empower you to navigate the cosmic seas with confidence and awareness.
URL:https://atlantaastrology.com/event/navigating-through-time-with-fran-rackow-kathryn-silverton/
LOCATION:The Rene Goodale Learning Center\, 2054 Harobi Drive\, Tucker\, GA\, 30084\, United States
ATTACH;FMTTYPE=image/jpeg:https://atlantaastrology.com/wp-content/uploads/2024/01/maayan-nemanov-8INZ1fhNxZo-unsplash-scaled.jpg
END:VEVENT
END:VCALENDAR