BEGIN:VCALENDAR
VERSION:2.0
PRODID:-//Atlanta Astrology - ECPv6.15.16.1//NONSGML v1.0//EN
CALSCALE:GREGORIAN
METHOD:PUBLISH
X-WR-CALNAME:Atlanta Astrology
X-ORIGINAL-URL:https://atlantaastrology.com
X-WR-CALDESC:Events for Atlanta Astrology
REFRESH-INTERVAL;VALUE=DURATION:PT1H
X-Robots-Tag:noindex
X-PUBLISHED-TTL:PT1H
BEGIN:VTIMEZONE
TZID:America/New_York
BEGIN:DAYLIGHT
TZOFFSETFROM:-0500
TZOFFSETTO:-0400
TZNAME:EDT
DTSTART:20220313T070000
END:DAYLIGHT
BEGIN:STANDARD
TZOFFSETFROM:-0400
TZOFFSETTO:-0500
TZNAME:EST
DTSTART:20221106T060000
END:STANDARD
BEGIN:DAYLIGHT
TZOFFSETFROM:-0500
TZOFFSETTO:-0400
TZNAME:EDT
DTSTART:20230312T070000
END:DAYLIGHT
BEGIN:STANDARD
TZOFFSETFROM:-0400
TZOFFSETTO:-0500
TZNAME:EST
DTSTART:20231105T060000
END:STANDARD
BEGIN:DAYLIGHT
TZOFFSETFROM:-0500
TZOFFSETTO:-0400
TZNAME:EDT
DTSTART:20240310T070000
END:DAYLIGHT
BEGIN:STANDARD
TZOFFSETFROM:-0400
TZOFFSETTO:-0500
TZNAME:EST
DTSTART:20241103T060000
END:STANDARD
END:VTIMEZONE
BEGIN:VEVENT
DTSTART;TZID=America/New_York:20230817T193000
DTEND;TZID=America/New_York:20230817T210000
DTSTAMP:20260425T162508
CREATED:20230728T232216Z
LAST-MODIFIED:20230728T232216Z
UID:27227-1692300600-1692306000@atlantaastrology.com
SUMMARY:It Started in the Womb with Maxine Taylor
DESCRIPTION:Maxine’s passion is releasing childhood programming\, which is clearly visible in the birth chart. She will share her latest findings in her talk at MAAS this month. \nBIO: \nMaxine Taylor is a pioneer in the field of astrology. She began her astrological studies in 1966\, and in 1968\, she became America’s first licensed astrologer. In 1969\, she had a bill introduced into the Georgia General Assembly to legalize astrology in Atlanta\, and in 1970\, the bill passed and was signed into law. Maxine spearheaded the establishment of the Atlanta Board of Astrology Examiners\, and is one of the founders of MAAS. She is CNN’s former on-air astrologer\, Vice President of the American Federation of Astrologers\, and the author of 8 books available on amazon.com.
URL:https://atlantaastrology.com/event/it-started-in-the-womb-with-maxine-taylor/
LOCATION:The Rene Goodale Learning Center\, 2054 Harobi Drive\, Tucker\, GA\, 30084\, United States
ATTACH;FMTTYPE=image/jpeg:https://atlantaastrology.com/wp-content/uploads/2023/07/max250.jpg
END:VEVENT
END:VCALENDAR