BEGIN:VCALENDAR
VERSION:2.0
PRODID:-//Atlanta Astrology - ECPv6.15.16.1//NONSGML v1.0//EN
CALSCALE:GREGORIAN
METHOD:PUBLISH
X-WR-CALNAME:Atlanta Astrology
X-ORIGINAL-URL:https://atlantaastrology.com
X-WR-CALDESC:Events for Atlanta Astrology
REFRESH-INTERVAL;VALUE=DURATION:PT1H
X-Robots-Tag:noindex
X-PUBLISHED-TTL:PT1H
BEGIN:VTIMEZONE
TZID:America/New_York
BEGIN:DAYLIGHT
TZOFFSETFROM:-0500
TZOFFSETTO:-0400
TZNAME:EDT
DTSTART:20220313T070000
END:DAYLIGHT
BEGIN:STANDARD
TZOFFSETFROM:-0400
TZOFFSETTO:-0500
TZNAME:EST
DTSTART:20221106T060000
END:STANDARD
BEGIN:DAYLIGHT
TZOFFSETFROM:-0500
TZOFFSETTO:-0400
TZNAME:EDT
DTSTART:20230312T070000
END:DAYLIGHT
BEGIN:STANDARD
TZOFFSETFROM:-0400
TZOFFSETTO:-0500
TZNAME:EST
DTSTART:20231105T060000
END:STANDARD
BEGIN:DAYLIGHT
TZOFFSETFROM:-0500
TZOFFSETTO:-0400
TZNAME:EDT
DTSTART:20240310T070000
END:DAYLIGHT
BEGIN:STANDARD
TZOFFSETFROM:-0400
TZOFFSETTO:-0500
TZNAME:EST
DTSTART:20241103T060000
END:STANDARD
END:VTIMEZONE
BEGIN:VEVENT
DTSTART;TZID=America/New_York:20230518T193000
DTEND;TZID=America/New_York:20230518T210000
DTSTAMP:20260425T211929
CREATED:20230418T193545Z
LAST-MODIFIED:20230419T005017Z
UID:26769-1684438200-1684443600@atlantaastrology.com
SUMMARY:May 18 2023 Meeting
DESCRIPTION:The Astrological Chart of St. Gemma Galgani \nAn examination of one of the most paranormal and mystical lives in history\, St. Gemma Galgani. We will investigate through her natal chart transits and the medical astrology implications of her life. We will see what paranormal experiences can be confirmed through astrology\, and how her temperament aligns with what her priest and biographer\, Ven. Germanus\, tells us about her. \nSt. Gemma Galgani is an Italian girl who lived at the turn of the 20th Century and became what many call a “Victim Soul.” This is a person who takes on abnormal\, supernatural suffering to atone for the sins of the world and thereby secure salvation for souls. For Gemma Galgani this manifested as weekly suffering the wounds of Jesus\, mysterious illnesses\, and physical attacks and manifestations of demonic creatures. She was said to have manifested every mystical ability: Prophecy\, levitation\, bi-location\, ecstatic communications with Jesus\, and Eucharistic fasting\, as well as visibly seeing and communicating with her guardian angel at all times. Her life ended at 23\, after months of suffering under a mysterious illness and increased demonic attack\, and finally possession. \nShe was considered a living saint in her own lifetime. Many who knew her considered her sinless\, including her priests. To be in her presence\, to look her in the eyes was as if being in the presence of a seraph\, it was said. In fact\, she was known as the Seraph of Lucca. \nShe was beatified in 1933 and canonized in 1940. She is the patron saint of students\, back pain\, and purity. She is also invoked in exorcisms as the “scourge of demons.” \nPresenter: Justin Showalter is an astrologer who writes on astrology and the saints and miracles of the Catholic Church on Substack at Astrology Of The Saints. He is a student of transits\, planetary cycles\, and mundane astrology. \n 
URL:https://atlantaastrology.com/event/may-18-2023-meeting/
LOCATION:The Rene Goodale Learning Center\, 2054 Harobi Drive\, Tucker\, GA\, 30084\, United States
CATEGORIES:Monthly Meeting & Lecture
ATTACH;FMTTYPE=image/jpeg:https://atlantaastrology.com/wp-content/uploads/2023/04/St.-Gemma-Galgani-Picture1.jpg
END:VEVENT
END:VCALENDAR